BEGIN:VCALENDAR
VERSION:2.0
PRODID:-//Rita&#039;s • Agave y Tacos - ECPv6.15.20//NONSGML v1.0//EN
CALSCALE:GREGORIAN
METHOD:PUBLISH
X-WR-CALNAME:Rita&#039;s • Agave y Tacos
X-ORIGINAL-URL:http://ritasbreck.com
X-WR-CALDESC:Events for Rita&#039;s • Agave y Tacos
REFRESH-INTERVAL;VALUE=DURATION:PT1H
X-Robots-Tag:noindex
X-PUBLISHED-TTL:PT1H
BEGIN:VTIMEZONE
TZID:America/Denver
BEGIN:DAYLIGHT
TZOFFSETFROM:-0700
TZOFFSETTO:-0600
TZNAME:MDT
DTSTART:20250309T090000
END:DAYLIGHT
BEGIN:STANDARD
TZOFFSETFROM:-0600
TZOFFSETTO:-0700
TZNAME:MST
DTSTART:20251102T080000
END:STANDARD
BEGIN:DAYLIGHT
TZOFFSETFROM:-0700
TZOFFSETTO:-0600
TZNAME:MDT
DTSTART:20260308T090000
END:DAYLIGHT
BEGIN:STANDARD
TZOFFSETFROM:-0600
TZOFFSETTO:-0700
TZNAME:MST
DTSTART:20261101T080000
END:STANDARD
BEGIN:DAYLIGHT
TZOFFSETFROM:-0700
TZOFFSETTO:-0600
TZNAME:MDT
DTSTART:20270314T090000
END:DAYLIGHT
BEGIN:STANDARD
TZOFFSETFROM:-0600
TZOFFSETTO:-0700
TZNAME:MST
DTSTART:20271107T080000
END:STANDARD
END:VTIMEZONE
BEGIN:VEVENT
DTSTART;VALUE=DATE:20260422
DTEND;VALUE=DATE:20260424
DTSTAMP:20260422T134845
CREATED:20260407T052416Z
LAST-MODIFIED:20260407T052416Z
UID:1375-1776816000-1776988799@ritasbreck.com
SUMMARY:Deep Clean Days at Kenosha & Rita’s | Closed April 22–23
DESCRIPTION:🧼 Deep Clean Days at Kenosha & Rita’s\n\nRita’s Agave y Tacos will be closed April 22–23 for our annual deep clean. \nOnce a year\, we shut things down completely and give both restaurants the full reset. That means pulling equipment apart\, scrubbing every surface\, cleaning behind and under everything\, and making sure every inch of the kitchen\, bar\, and dining spaces are dialed in for the seasons ahead. \nIt’s not the glamorous side of the restaurant world — but it’s one of the most important. \nFrom the keg cooler to the kitchen line\, from the walls to the floors\, our entire team rolls up their sleeves and gets after it. It’s a full-house effort to keep Kenosha and Rita’s running the way they should: clean\, consistent\, and ready for the next round of busy days in Breckenridge. \nWe’ll reopen on Friday\, April 24th with regular hours\, cold drinks\, and everything back in action. \nThanks for understanding — and we’ll see you right after the reset.
URL:http://ritasbreck.com/event/deep-clean-days-at-kenosha-ritas-closed-april-22-23/
LOCATION:Rita’s\, 301 South Main Street\, Breckenridge\, CO\, 80424\, United States
END:VEVENT
BEGIN:VEVENT
DTSTART;TZID=America/Denver:20260430T200000
DTEND;TZID=America/Denver:20260430T220000
DTSTAMP:20260422T134845
CREATED:20260407T050009Z
LAST-MODIFIED:20260407T050036Z
UID:1371-1777579200-1777586400@ritasbreck.com
SUMMARY:Rita’s Trivia Night • Tacos\, Tequila & Bragging Rights
DESCRIPTION:🍹🧠 Rita’s Trivia Night — Every Thursday at 8 PM\n(April Edition)\nRita’s Trivia Night Breckenridge happens every Thursday at 8:00 PM downstairs at Rita’s Agave y Tacos. As spring settles into Breckenridge\, longer days turn into lively nights — and there’s no better way to keep things going than with trivia\, tacos\, and tequila in a warm basement bar. \nWhether you’re wrapping up a ski day\, sticking around for après\, or just looking for something fun to do in town\, Rita’s delivers a Thursday night tradition that locals and visitors both look forward to. Rita’s Trivia Night Breckenridge continues all April long with the same laid-back energy\, competitive spirit\, and strong margaritas. \n\n🧠 What Trivia Night Looks Like\nEvery Thursday at 8:00 PM\, teams gather for a fast-paced trivia night covering pop culture\, music\, current events\, and completely random knowledge. As the rounds build\, so does the energy — and yes\, there are always a few curveballs. \nMost importantly\, trivia is free to play\, and walk-ins are always welcome. So whether you show up early or slide in mid-game\, you can jump right in. \nTo keep things fair\, phones are not allowed during gameplay. Because of this\, every team stays on a level playing field from start to finish. At the end of the night\, the top three teams take home prizes — along with some well-earned bragging rights. \n\n🌮 Fuel Your Team Between Rounds\nBetween questions\, keep your team sharp with Rita’s crowd-favorite menu and Thursday drink specials: \n• 🌮 Build-your-own tacos made fresh to order• 🥑 House-made chips and guacamole• 🍺 $4 Ska Brewing Mexican Logger drafts• 🥃 $8 Patrón Reposado shots \nIn addition\, Rita’s full agave lineup is always within reach — so if your team needs a little “strategy boost\,” you know where to look. \n\n📍 A Local Favorite Thursday Tradition\nIf you’re searching for trivia night in Breckenridge\, a fun Thursday bar event\, or a locals-approved spring activity\, Rita’s Trivia Night Breckenridge checks every box. \nEven better\, you can build it into your weekly routine — from Margarita Mondays to Taco Tuesdays and straight into Thursday trivia. \nSo grab your team\, bring your random knowledge\, and settle in downstairs. Rita’s Trivia Night isn’t just something to do — it’s one of those nights that tends to turn into a habit.
URL:http://ritasbreck.com/event/ritas-trivia-night-tacos-tequila-bragging-rights-11/
LOCATION:Rita’s\, 301 South Main Street\, Breckenridge\, CO\, 80424\, United States
ATTACH;FMTTYPE=image/png:http://ritasbreck.com/wp-content/uploads/2025/12/Ritas-Trivia-Poster-Patron-n-Ska_Jan-2026-scaled.png
END:VEVENT
END:VCALENDAR