BEGIN:VCALENDAR
VERSION:2.0
PRODID:-//Rita&#039;s • Agave y Tacos - ECPv6.15.20//NONSGML v1.0//EN
CALSCALE:GREGORIAN
METHOD:PUBLISH
X-WR-CALNAME:Rita&#039;s • Agave y Tacos
X-ORIGINAL-URL:https://ritasbreck.com
X-WR-CALDESC:Events for Rita&#039;s • Agave y Tacos
REFRESH-INTERVAL;VALUE=DURATION:PT1H
X-Robots-Tag:noindex
X-PUBLISHED-TTL:PT1H
BEGIN:VTIMEZONE
TZID:America/Denver
BEGIN:DAYLIGHT
TZOFFSETFROM:-0700
TZOFFSETTO:-0600
TZNAME:MDT
DTSTART:20230312T090000
END:DAYLIGHT
BEGIN:STANDARD
TZOFFSETFROM:-0600
TZOFFSETTO:-0700
TZNAME:MST
DTSTART:20231105T080000
END:STANDARD
BEGIN:DAYLIGHT
TZOFFSETFROM:-0700
TZOFFSETTO:-0600
TZNAME:MDT
DTSTART:20240310T090000
END:DAYLIGHT
BEGIN:STANDARD
TZOFFSETFROM:-0600
TZOFFSETTO:-0700
TZNAME:MST
DTSTART:20241103T080000
END:STANDARD
BEGIN:DAYLIGHT
TZOFFSETFROM:-0700
TZOFFSETTO:-0600
TZNAME:MDT
DTSTART:20250309T090000
END:DAYLIGHT
BEGIN:STANDARD
TZOFFSETFROM:-0600
TZOFFSETTO:-0700
TZNAME:MST
DTSTART:20251102T080000
END:STANDARD
END:VTIMEZONE
BEGIN:VEVENT
DTSTART;TZID=America/Denver:20240606T200000
DTEND;TZID=America/Denver:20240606T220000
DTSTAMP:20260425T084652
CREATED:20240622T202305Z
LAST-MODIFIED:20240622T203624Z
UID:1025-1717704000-1717711200@ritasbreck.com
SUMMARY:Rita's Trivia Night • Patrón & Ska Brewing
DESCRIPTION:Join us every Thursday at 8pm for an exhilarating trivia showdown at Rita’s! Put your skills and knowledge to the test in our lively quiz hosted by the charismatic MC\, Abe aka #Abertooth.\nRemember\, no cell phones allowed – we keep it fair and square!\n \nTop 3 teams each week earn bragging rights and exciting rewards. Enjoy special deals on Ska Brewing #Loggers throughout the evening\, alongside tantalizing creations featuring Patrón Tequila and intriguing offerings on all Mezcal pours\, guided by #TheDoctor.\n \nJoin us in the #LocalsBasement for an unforgettable night of brain-teasing fun\, community spirit\, and mouthwatering tacos. See you there!
URL:https://ritasbreck.com/event/ritas-trivia-night-patron-ska-brewing/
LOCATION:Rita’s\, 301 South Main Street\, Breckenridge\, CO\, 80424\, United States
END:VEVENT
BEGIN:VEVENT
DTSTART;TZID=America/Denver:20240530T200000
DTEND;TZID=America/Denver:20240530T220000
DTSTAMP:20260425T084652
CREATED:20240522T172603Z
LAST-MODIFIED:20240522T172603Z
UID:1015-1717099200-1717106400@ritasbreck.com
SUMMARY:Rita's Trivia • May Tournament
DESCRIPTION:Get ready for four weeks of brain-teasing excitement at Rita’s with our Four-Week Cumulative Trivia Tournament!\nJoin us every Thursday to put your wits to the test and compete for weekly prizes\, with grand prizes awaiting the top three point holders at the end of the tournament.\nGrand Prize: Two Tickets to the Denver Ska Fest(featuring: Goldfinger\, Less than Jake & Five Iron Frenzy)\nWhile weekly attendance is encouraged\, it’s not mandatory – drop in whenever you can for a chance to win big and enjoy the lively atmosphere hosted by MC Abe.\nPlus\, indulge in specials on Ska Brewing #Loggers and Patron #Tequila all night long. Don’t miss the chance to uncover the secrets of Mezcal with #TheDoctor. Find us at #LocalsBasement and see if you’re smarter than a local – come join the fun and prove it!
URL:https://ritasbreck.com/event/ritas-trivia-may-tournament-4/
LOCATION:Rita’s\, 301 South Main Street\, Breckenridge\, CO\, 80424\, United States
ATTACH;FMTTYPE=image/jpeg:https://ritasbreck.com/wp-content/uploads/2024/05/Trivia-Tourney-May-wb-2024.jpg
END:VEVENT
BEGIN:VEVENT
DTSTART;TZID=America/Denver:20240527T110000
DTEND;TZID=America/Denver:20240527T210000
DTSTAMP:20260425T084652
CREATED:20240408T064722Z
LAST-MODIFIED:20240408T064722Z
UID:990-1716807600-1716843600@ritasbreck.com
SUMMARY:Memorial Day
DESCRIPTION:
URL:https://ritasbreck.com/event/memorial-day-2/
LOCATION:CO
END:VEVENT
BEGIN:VEVENT
DTSTART;TZID=America/Denver:20240523T200000
DTEND;TZID=America/Denver:20240523T220000
DTSTAMP:20260425T084652
CREATED:20240522T172333Z
LAST-MODIFIED:20240522T172333Z
UID:1013-1716494400-1716501600@ritasbreck.com
SUMMARY:Rita's Trivia • May Tournament
DESCRIPTION:Get ready for four weeks of brain-teasing excitement at Rita’s with our Four-Week Cumulative Trivia Tournament!\nJoin us every Thursday to put your wits to the test and compete for weekly prizes\, with grand prizes awaiting the top three point holders at the end of the tournament.\nGrand Prize: Two Tickets to the Denver Ska Fest(featuring: Goldfinger\, Less than Jake & Five Iron Frenzy)\nWhile weekly attendance is encouraged\, it’s not mandatory – drop in whenever you can for a chance to win big and enjoy the lively atmosphere hosted by MC Abe.\nPlus\, indulge in specials on Ska Brewing #Loggers and Patron #Tequila all night long. Don’t miss the chance to uncover the secrets of Mezcal with #TheDoctor. Find us at #LocalsBasement and see if you’re smarter than a local – come join the fun and prove it!
URL:https://ritasbreck.com/event/ritas-trivia-may-tournament-3/
LOCATION:Rita’s\, 301 South Main Street\, Breckenridge\, CO\, 80424\, United States
ATTACH;FMTTYPE=image/jpeg:https://ritasbreck.com/wp-content/uploads/2024/05/Trivia-Tourney-May-wb-2024.jpg
END:VEVENT
BEGIN:VEVENT
DTSTART;TZID=America/Denver:20240516T200000
DTEND;TZID=America/Denver:20240516T220000
DTSTAMP:20260425T084652
CREATED:20240522T172123Z
LAST-MODIFIED:20240522T172123Z
UID:1011-1715889600-1715896800@ritasbreck.com
SUMMARY:Rita's Trivia • May Tournament
DESCRIPTION:Get ready for four weeks of brain-teasing excitement at Rita’s with our Four-Week Cumulative Trivia Tournament!\nJoin us every Thursday to put your wits to the test and compete for weekly prizes\, with grand prizes awaiting the top three point holders at the end of the tournament.\nGrand Prize: Two Tickets to the Denver Ska Fest(featuring: Goldfinger\, Less than Jake & Five Iron Frenzy)\nWhile weekly attendance is encouraged\, it’s not mandatory – drop in whenever you can for a chance to win big and enjoy the lively atmosphere hosted by MC Abe.\nPlus\, indulge in specials on Ska Brewing #Loggers and Patron #Tequila all night long. Don’t miss the chance to uncover the secrets of Mezcal with #TheDoctor. Find us at #LocalsBasement and see if you’re smarter than a local – come join the fun and prove it!
URL:https://ritasbreck.com/event/ritas-trivia-may-tournament-2/
LOCATION:Rita’s\, 301 South Main Street\, Breckenridge\, CO\, 80424\, United States
ATTACH;FMTTYPE=image/jpeg:https://ritasbreck.com/wp-content/uploads/2024/05/Trivia-Tourney-May-wb-2024.jpg
END:VEVENT
BEGIN:VEVENT
DTSTART;TZID=America/Denver:20240512T113000
DTEND;TZID=America/Denver:20240512T210000
DTSTAMP:20260425T084652
CREATED:20240408T064623Z
LAST-MODIFIED:20240408T064623Z
UID:988-1715513400-1715547600@ritasbreck.com
SUMMARY:Mother's Day
DESCRIPTION:We promise to buy all the great Mom’s out there a Seńor Rita!\n(Limit – One per Mom) \n(Kids are great proof but not required To be Present)
URL:https://ritasbreck.com/event/mothers-day-2/
LOCATION:CO
END:VEVENT
BEGIN:VEVENT
DTSTART;TZID=America/Denver:20240509T200000
DTEND;TZID=America/Denver:20240509T220000
DTSTAMP:20260425T084652
CREATED:20240522T170748Z
LAST-MODIFIED:20240522T171825Z
UID:1003-1715284800-1715292000@ritasbreck.com
SUMMARY:Rita's Trivia • May Tournament
DESCRIPTION:Get ready for four weeks of brain-teasing excitement at Rita’s with our Four-Week Cumulative Trivia Tournament!\nJoin us every Thursday to put your wits to the test and compete for weekly prizes\, with grand prizes awaiting the top three point holders at the end of the tournament.\nGrand Prize: Two Tickets to the Denver Ska Fest(featuring: Goldfinger\, Less than Jake & Five Iron Frenzy)\nWhile weekly attendance is encouraged\, it’s not mandatory – drop in whenever you can for a chance to win big and enjoy the lively atmosphere hosted by MC Abe.\nPlus\, indulge in specials on Ska Brewing #Loggers and Patron #Tequila all night long. Don’t miss the chance to uncover the secrets of Mezcal with #TheDoctor. Find us at #LocalsBasement and see if you’re smarter than a local – come join the fun and prove it!
URL:https://ritasbreck.com/event/ritas-trivia-may-tournament/
LOCATION:Rita’s\, 301 South Main Street\, Breckenridge\, CO\, 80424\, United States
ATTACH;FMTTYPE=image/jpeg:https://ritasbreck.com/wp-content/uploads/2024/05/Trivia-Tourney-May-wb-2024.jpg
END:VEVENT
BEGIN:VEVENT
DTSTART;TZID=America/Denver:20240505T113000
DTEND;TZID=America/Denver:20240505T210000
DTSTAMP:20260425T084652
CREATED:20240408T064833Z
LAST-MODIFIED:20240505T171428Z
UID:993-1714908600-1714942800@ritasbreck.com
SUMMARY:Cinco de Mayo
DESCRIPTION:Join us at Rita’s Agave y Tacos for an unforgettable Cinco de Mayo celebration!\nWe’re pulling out all the stops with Patron Tequila specials that’ll keep the fiesta going all day long. Indulge in our exclusive Single Barrel Patron Reposado and sip on $16 Cadillac Margaritas or $13 Pura Vida Margaritas. Craving a quick shot? We’ve got you covered with $6 shots featuring this epic tequila.\nBut wait\, there’s more! Dive into our Happy Hour specials from 11:30am – 1:30pm & 4pm – 6pm\, where the fun never ends. Plus\, don’t miss your chance to win a Titleist Golf Bag from Patron in our exciting raffle. Simply purchase one of our Patron drinks to grab a raffle ticket\, and stay tuned for the winner announcement on our Instagram page @Ritas_Breck. Give us a like while you’re there\, and let’s make this Cinco de Mayo one for the books!
URL:https://ritasbreck.com/event/cinco-de-mayo/
LOCATION:CO
END:VEVENT
BEGIN:VEVENT
DTSTART;TZID=America/Denver:20240425T200000
DTEND;TZID=America/Denver:20240425T220000
DTSTAMP:20260425T084652
CREATED:20240408T063625Z
LAST-MODIFIED:20240409T232348Z
UID:982-1714075200-1714082400@ritasbreck.com
SUMMARY:Rita's Trivia Night • Ska Brewing
DESCRIPTION:Are you smarter than a local…?\nWho’s ready to test their skills and knowledge?\nWe of course\, reward the top 3 teams each week!\n(cell phones are not to be used\, cheaters…)\nWe’ve got Abe aka #Abertooth as your MC…\nSka Brewing #MexicanLoggers will be on special all night!\nAsk #TheDoctor about Mezcal Vago and see what happens…\nCome find us in the #LocalsBasement!
URL:https://ritasbreck.com/event/ritas-trivia-night-ska-brewing-11/
LOCATION:CO
ATTACH;FMTTYPE=image/jpeg:https://ritasbreck.com/wp-content/uploads/2024/04/Ritas-Trivia-April-25th-2024.jpg
END:VEVENT
BEGIN:VEVENT
DTSTART;VALUE=DATE:20240422
DTEND;VALUE=DATE:20240423
DTSTAMP:20260425T084652
CREATED:20240408T064124Z
LAST-MODIFIED:20240408T064124Z
UID:986-1713744000-1713830399@ritasbreck.com
SUMMARY:Earth Day 2024
DESCRIPTION:
URL:https://ritasbreck.com/event/earth-day-2024/
LOCATION:CO
END:VEVENT
BEGIN:VEVENT
DTSTART;TZID=America/Denver:20240418T200000
DTEND;TZID=America/Denver:20240418T220000
DTSTAMP:20260425T084652
CREATED:20240408T063404Z
LAST-MODIFIED:20240409T232250Z
UID:980-1713470400-1713477600@ritasbreck.com
SUMMARY:Rita's Trivia Night • Ska Brewing
DESCRIPTION:Are you smarter than a local…?\nWho’s ready to test their skills and knowledge?\nWe of course\, reward the top 3 teams each week!\n(cell phones are not to be used\, cheaters…)\nWe’ve got Abe aka #Abertooth as your MC…\nSka Brewing #MexicanLoggers will be on special all night!\nAsk #TheDoctor about Del Maguey Mezcal and see what happens…\nCome find us in the #LocalsBasement!
URL:https://ritasbreck.com/event/ritas-trivia-night-ska-brewing-10/
LOCATION:CO
ATTACH;FMTTYPE=image/jpeg:https://ritasbreck.com/wp-content/uploads/2024/04/Ritas-Trivia-April-18th-2024.jpg
END:VEVENT
BEGIN:VEVENT
DTSTART;VALUE=DATE:20240415
DTEND;VALUE=DATE:20240416
DTSTAMP:20260425T084652
CREATED:20240408T063956Z
LAST-MODIFIED:20240408T063956Z
UID:984-1713139200-1713225599@ritasbreck.com
SUMMARY:TAX DAY!
DESCRIPTION:
URL:https://ritasbreck.com/event/tax-day/
LOCATION:CO
END:VEVENT
BEGIN:VEVENT
DTSTART;TZID=America/Denver:20240411T200000
DTEND;TZID=America/Denver:20240411T220000
DTSTAMP:20260425T084652
CREATED:20240408T063142Z
LAST-MODIFIED:20240409T232207Z
UID:978-1712865600-1712872800@ritasbreck.com
SUMMARY:Rita's Trivia Night • Ska Brewing
DESCRIPTION:Are you smarter than a local…?\nWho’s ready to test their skills and knowledge?\nWe of course\, reward the top 3 teams each week!\n(cell phones are not to be used\, cheaters…)\nWe’ve got Abe aka #Abertooth as your MC…\nSka Brewing #MexicanLoggers will be on special all night!\nAsk #TheDoctor about Mezcal Mal Bien and see what happens…\nCome find us in the #LocalsBasement!
URL:https://ritasbreck.com/event/ritas-trivia-night-ska-brewing-9/
LOCATION:CO
ATTACH;FMTTYPE=image/jpeg:https://ritasbreck.com/wp-content/uploads/2024/04/Ritas-Trivia-April-11th-2024-1.jpg
END:VEVENT
BEGIN:VEVENT
DTSTART;TZID=America/Denver:20240404T200000
DTEND;TZID=America/Denver:20240404T220000
DTSTAMP:20260425T084652
CREATED:20240408T061955Z
LAST-MODIFIED:20240408T062408Z
UID:971-1712260800-1712268000@ritasbreck.com
SUMMARY:Rita's Trivia Night • Ska Brewing
DESCRIPTION:Are you smarter than a local…?\nWho’s ready to test their skills and knowledge?\nWe of course\, reward the top 3 teams each week!\n(cell phones are not to be used\, cheaters…)\nWe’ve got Abe aka #Abertooth as your MC…\nSka Brewing #MexicanLoggers will be on special all night!\nAsk #TheDoctor about Del Maguey Mezcal and see what happens…\nCome find us in the #LocalsBasement!
URL:https://ritasbreck.com/event/971/
LOCATION:CO
ATTACH;FMTTYPE=image/jpeg:https://ritasbreck.com/wp-content/uploads/2024/04/Ritas-Trivia-April-2024.jpg
END:VEVENT
BEGIN:VEVENT
DTSTART;TZID=America/Denver:20240328T200000
DTEND;TZID=America/Denver:20240328T220000
DTSTAMP:20260425T084652
CREATED:20240408T062751Z
LAST-MODIFIED:20240408T062751Z
UID:976-1711656000-1711663200@ritasbreck.com
SUMMARY:Rita's Trivia Night • Ska Brewing
DESCRIPTION:Are you smarter than a local…?\nWho’s ready to test their skills and knowledge?\nWe of course\, reward the top 3 teams each week!\n(cell phones are not to be used\, cheaters…)\nWe’ve got Abe aka #Abertooth as your MC…\nSka Brewing #MexicanLoggers will be on special all night!\nAsk #TheDoctor about Rey Campero Mezcal and see what happens…\nCome find us in the #LocalsBasement!
URL:https://ritasbreck.com/event/ritas-trivia-night-ska-brewing-8/
LOCATION:CO
END:VEVENT
BEGIN:VEVENT
DTSTART;TZID=America/Denver:20240321T200000
DTEND;TZID=America/Denver:20240321T220000
DTSTAMP:20260425T084652
CREATED:20240408T061531Z
LAST-MODIFIED:20240408T061656Z
UID:969-1711051200-1711058400@ritasbreck.com
SUMMARY:Rita's Trivia Night • Ska Brewing
DESCRIPTION:Are you smarter than a local…?\nWho’s ready to test their skills and knowledge?\nWe of course\, reward the top 3 teams each week!\n(cell phones are not to be used\, cheaters…)\nWe’ve got Abe aka #Abertooth as your MC…\nSka Brewing #MexicanLoggers will be on special all night!\nAsk #TheDoctor about Rey Campero Mezcal and see what happens…\nCome find us in the #LocalsBasement!
URL:https://ritasbreck.com/event/ritas-trivia-night-ska-brewing-7/
LOCATION:CO
END:VEVENT
BEGIN:VEVENT
DTSTART;TZID=America/Denver:20240314T200000
DTEND;TZID=America/Denver:20240314T220000
DTSTAMP:20260425T084652
CREATED:20240408T061219Z
LAST-MODIFIED:20240408T061705Z
UID:967-1710446400-1710453600@ritasbreck.com
SUMMARY:Rita's Trivia Night • Ska Brewing
DESCRIPTION:Are you smarter than a local…?\nWho’s ready to test their skills and knowledge?\nWe of course\, reward the top 3 teams each week!\n(cell phones are not to be used\, cheaters…)\nWe’ve got Abe aka #Abertooth as your MC…\nSka Brewing #MexicanLoggers will be on special all night!\nAsk #TheDoctor about Del Maguey Mezcal and see what happens…\nCome find us in the #LocalsBasement!
URL:https://ritasbreck.com/event/ritas-trivia-night-ska-brewing-6/
LOCATION:CO
END:VEVENT
BEGIN:VEVENT
DTSTART;TZID=America/Denver:20240307T200000
DTEND;TZID=America/Denver:20240307T220000
DTSTAMP:20260425T084652
CREATED:20240408T060055Z
LAST-MODIFIED:20240408T060359Z
UID:965-1709841600-1709848800@ritasbreck.com
SUMMARY:Rita's Trivia Night • Ska Brewing
DESCRIPTION:Are you smarter than a local…?\nWho’s ready to test their skills and knowledge?\nWe of course\, reward the top 3 teams each week!\n(cell phones are not to be used\, cheaters…)\nWe’ve got Abe aka #Abertooth as your MC…\nSka Brewing #MexicanLoggers will be on special all night!\nAsk #TheDoctor about Vago Mezcal and see what happens…\nCome find us in the #LocalsBasement!
URL:https://ritasbreck.com/event/ritas-trivia-night-ska-brewing-5/
LOCATION:CO
END:VEVENT
BEGIN:VEVENT
DTSTART;TZID=America/Denver:20240229T200000
DTEND;TZID=America/Denver:20240229T223000
DTSTAMP:20260425T084652
CREATED:20240207T013136Z
LAST-MODIFIED:20240207T013136Z
UID:956-1709236800-1709245800@ritasbreck.com
SUMMARY:Rita's Trivia Night • Ska Brewing
DESCRIPTION:Are you smarter than a local…?\nWho’s ready to test their skills and knowledge? We of course\, reward the top 3 teams each week!\n(cell phones are not to be used\, cheaters…)\nWe’ve got Abe as your MC… Ska Brewing #MexicanLoggers will be on special all night!\nAsk #TheDoctor about Mezcal and see what happens…\nCome find us in the #LocalsBasement!
URL:https://ritasbreck.com/event/ritas-trivia-night-ska-brewing-3/
LOCATION:CO
ATTACH;FMTTYPE=image/jpeg:https://ritasbreck.com/wp-content/uploads/2024/02/Ritas-Trivia-Goog-2024.jpg
END:VEVENT
BEGIN:VEVENT
DTSTART;TZID=America/Denver:20240222T200000
DTEND;TZID=America/Denver:20240222T223000
DTSTAMP:20260425T084652
CREATED:20240207T013038Z
LAST-MODIFIED:20240207T013038Z
UID:954-1708632000-1708641000@ritasbreck.com
SUMMARY:Rita's Trivia Night • Ska Brewing
DESCRIPTION:Are you smarter than a local…?\nWho’s ready to test their skills and knowledge? We of course\, reward the top 3 teams each week!\n(cell phones are not to be used\, cheaters…)\nWe’ve got Abe as your MC… Ska Brewing #MexicanLoggers will be on special all night!\nAsk #TheDoctor about Mezcal and see what happens…\nCome find us in the #LocalsBasement!
URL:https://ritasbreck.com/event/ritas-trivia-night-ska-brewing-2/
LOCATION:CO
ATTACH;FMTTYPE=image/jpeg:https://ritasbreck.com/wp-content/uploads/2024/02/Ritas-Trivia-Goog-2024.jpg
END:VEVENT
BEGIN:VEVENT
DTSTART;TZID=America/Denver:20240222T113000
DTEND;TZID=America/Denver:20240222T220000
DTSTAMP:20260425T084652
CREATED:20240222T183015Z
LAST-MODIFIED:20240222T183015Z
UID:961-1708601400-1708639200@ritasbreck.com
SUMMARY:National Margarita Day
DESCRIPTION:Come CELEBRATE with us today!\nFebruary 22nd is #NationalMargaritaDay\n \nHere’s what we’ve got on special today:\nThe House Margarita\, aka the #SeñorRita will be $10\nThe house infused #Espicy will be $12\nThe #Patron reposado based #CadillacMarg is going for $14\n \nWe’ve got two #HappyHours today!\n11:30am – 1:30pm & 4pm – 6pm\n \n#RitasTrivia will start this evening at 8pm…
URL:https://ritasbreck.com/event/national-margarita-day-2/
LOCATION:CO
ATTACH;FMTTYPE=image/jpeg:https://ritasbreck.com/wp-content/uploads/2024/02/Marg-Day-Feb-2024-Goog.jpg
END:VEVENT
BEGIN:VEVENT
DTSTART;TZID=America/Denver:20240215T200000
DTEND;TZID=America/Denver:20240215T223000
DTSTAMP:20260425T084652
CREATED:20240207T012925Z
LAST-MODIFIED:20240207T012943Z
UID:952-1708027200-1708036200@ritasbreck.com
SUMMARY:Rita's Trivia Night • Ska Brewing
DESCRIPTION:Are you smarter than a local…?\nWho’s ready to test their skills and knowledge? We of course\, reward the top 3 teams each week!\n(cell phones are not to be used\, cheaters…)\nWe’ve got Abe as your MC… Ska Brewing #MexicanLoggers will be on special all night!\nAsk #TheDoctor about Mezcal and see what happens…\nCome find us in the #LocalsBasement!
URL:https://ritasbreck.com/event/ritas-trivia-night-ska-brewing/
LOCATION:CO
ATTACH;FMTTYPE=image/jpeg:https://ritasbreck.com/wp-content/uploads/2024/02/Ritas-Trivia-Goog-2024.jpg
END:VEVENT
BEGIN:VEVENT
DTSTART;TZID=America/Denver:20240214T160000
DTEND;TZID=America/Denver:20240214T210000
DTSTAMP:20260425T084652
CREATED:20240206T220911Z
LAST-MODIFIED:20240206T220955Z
UID:941-1707926400-1707944400@ritasbreck.com
SUMMARY:Ander's Last Day
DESCRIPTION:Come give this guy a kick in the pants! \nIt’s his last day…
URL:https://ritasbreck.com/event/anders-last-day/
LOCATION:CO
ATTACH;FMTTYPE=image/jpeg:https://ritasbreck.com/wp-content/uploads/2024/02/Anders-Trumper-scaled.jpg
END:VEVENT
BEGIN:VEVENT
DTSTART;TZID=America/Denver:20240208T200000
DTEND;TZID=America/Denver:20240208T223000
DTSTAMP:20260425T084652
CREATED:20240207T013258Z
LAST-MODIFIED:20240207T013258Z
UID:958-1707422400-1707431400@ritasbreck.com
SUMMARY:Rita's Trivia Night • Ska Brewing
DESCRIPTION:Are you smarter than a local…?\nWho’s ready to test their skills and knowledge? We of course\, reward the top 3 teams each week!\n(cell phones are not to be used\, cheaters…)\nWe’ve got Abe as your MC… Ska Brewing #MexicanLoggers will be on special all night!\nAsk #TheDoctor about Mezcal and see what happens…\nCome find us in the #LocalsBasement!
URL:https://ritasbreck.com/event/ritas-trivia-night-ska-brewing-4/
LOCATION:CO
ATTACH;FMTTYPE=image/jpeg:https://ritasbreck.com/wp-content/uploads/2024/02/Ritas-Trivia-Goog-2024.jpg
END:VEVENT
BEGIN:VEVENT
DTSTART;TZID=America/Denver:20240201T200000
DTEND;TZID=America/Denver:20240201T223000
DTSTAMP:20260425T084652
CREATED:20240206T223839Z
LAST-MODIFIED:20240208T162721Z
UID:947-1706817600-1706826600@ritasbreck.com
SUMMARY:Rita's Trivia Night • Ska Brewing
DESCRIPTION:Are you smarter than a local…?\nWho’s ready to test their skills and knowledge? We of course\, reward the top 3 teams each week!\n(cell phones are not to be used\, cheaters…)\nWe’ve got Abe as your MC… Ska Brewing #Lagers will be on special all night!\nAsk #TheDoctor about Mezcal and see what happens…\nCome find us in the #LocalsBasement!
URL:https://ritasbreck.com/event/947/
LOCATION:CO
ATTACH;FMTTYPE=image/jpeg:https://ritasbreck.com/wp-content/uploads/2024/02/Ritas-Trivia-Goog-2024.jpg
END:VEVENT
BEGIN:VEVENT
DTSTART;VALUE=DATE:20240126
DTEND;VALUE=DATE:20240201
DTSTAMP:20260425T084652
CREATED:20240111T215819Z
LAST-MODIFIED:20240111T215819Z
UID:937-1706227200-1706745599@ritasbreck.com
SUMMARY:International Snow Sculpture Championships • Viewing Week
DESCRIPTION:Please visit “GoBreck” for more information!\n  \n(From the GoBreck website) \nBreckenridge’s International Snow Sculpture Championships is a world-renowned snow sculpting competition where teams from around the world descend on Breckenridge\, Colorado to hand-carve 25-ton blocks of snow into enormous\, intricate works of art. Artists are only allowed to use hand tools\, creativity and inspiration to bring their ideas to life. No power tools allowed! Teams sculpt countless hours across five days (totaling around 94 hours)\, resulting in a temporary outdoor art gallery in historic downtown Breckenridge!\n  \nJoin us at the 2024 International Snow Sculpture Championships\n\nSculpting Week: January 22-26\, 2024\nViewing Week: January 26-31\, 2024\n\nWe encourage spectators to view the sculptures Sunday\, Jan. 28 – Wednesday\, Jan. 31 when reservations are not required.  The sculpture viewing area will be closed at 7:00pm on January 31
URL:https://ritasbreck.com/event/international-snow-sculpture-championships-viewing-week/
LOCATION:CO
ATTACH;FMTTYPE=image/jpeg:https://ritasbreck.com/wp-content/uploads/2024/01/IMG_0883-1-scaled.jpg
END:VEVENT
BEGIN:VEVENT
DTSTART;TZID=America/Denver:20240125T200000
DTEND;TZID=America/Denver:20240125T220000
DTSTAMP:20260425T084652
CREATED:20240109T071518Z
LAST-MODIFIED:20240109T071518Z
UID:925-1706212800-1706220000@ritasbreck.com
SUMMARY:Rita's Trivia Night
DESCRIPTION:Are you smarter than a local…?\nWho’s ready to test their skills and knowledge? We of course\, reward the top 3 teams each week!\n(cell phones are not to be used\, cheaters…)\nWe’ve got Abe as your MC… Ska Brewing #Lagers will be on special all night!\nAsk #TheDoctor about Mezcal and see what happens…\nCome find us in the #LocalsBasement!
URL:https://ritasbreck.com/event/ritas-trivia-night-20/
LOCATION:CO
ATTACH;FMTTYPE=image/jpeg:https://ritasbreck.com/wp-content/uploads/2024/01/Ritas-Ska-Trivia-Night-scaled.jpg
END:VEVENT
BEGIN:VEVENT
DTSTART;VALUE=DATE:20240122
DTEND;VALUE=DATE:20240127
DTSTAMP:20260425T084652
CREATED:20240111T213644Z
LAST-MODIFIED:20240111T213644Z
UID:934-1705881600-1706313599@ritasbreck.com
SUMMARY:International Snow Sculpture Championships • Carving Week
DESCRIPTION:Please visit “GoBreck” for more information!\n  \n(From the GoBreck website) \nBreckenridge’s International Snow Sculpture Championships is a world-renowned snow sculpting competition where teams from around the world descend on Breckenridge\, Colorado to hand-carve 25-ton blocks of snow into enormous\, intricate works of art. Artists are only allowed to use hand tools\, creativity and inspiration to bring their ideas to life. No power tools allowed! Teams sculpt countless hours across five days (totaling around 94 hours)\, resulting in a temporary outdoor art gallery in historic downtown Breckenridge!\n  \nJoin us at the 2024 International Snow Sculpture Championships\n\nSculpting Week: January 22-26\, 2024\nViewing Week: January 26-31\, 2024\n\nWe encourage spectators to view the sculptures Sunday\, Jan. 28 – Wednesday\, Jan. 31 when reservations are not required.  The sculpture viewing area will be closed at 7:00pm on January 31\n 
URL:https://ritasbreck.com/event/international-snow-sculpture-championships-carving-week/
LOCATION:CO
ATTACH;FMTTYPE=image/jpeg:https://ritasbreck.com/wp-content/uploads/2024/01/IMG_0719-scaled.jpg
END:VEVENT
BEGIN:VEVENT
DTSTART;TZID=America/Denver:20240118T200000
DTEND;TZID=America/Denver:20240118T220000
DTSTAMP:20260425T084652
CREATED:20240109T071349Z
LAST-MODIFIED:20240109T071349Z
UID:923-1705608000-1705615200@ritasbreck.com
SUMMARY:Rita's Trivia Night
DESCRIPTION:Are you smarter than a local…?\nWho’s ready to test their skills and knowledge? We of course\, reward the top 3 teams each week!\n(cell phones are not to be used\, cheaters…)\nWe’ve got Abe as your MC… Ska Brewing #Lagers will be on special all night!\nAsk #TheDoctor about Mezcal and see what happens…\nCome find us in the #LocalsBasement!
URL:https://ritasbreck.com/event/ritas-trivia-night-19/
LOCATION:CO
ATTACH;FMTTYPE=image/jpeg:https://ritasbreck.com/wp-content/uploads/2024/01/Ritas-Ska-Trivia-Night-scaled.jpg
END:VEVENT
BEGIN:VEVENT
DTSTART;TZID=America/Denver:20240111T200000
DTEND;TZID=America/Denver:20240111T220000
DTSTAMP:20260425T084652
CREATED:20240109T070945Z
LAST-MODIFIED:20240111T212422Z
UID:920-1705003200-1705010400@ritasbreck.com
SUMMARY:Rita's Trivia  - Cancelled
DESCRIPTION:Apologies!  We have to cancel tonight’s Trivia.\n \nAre you smarter than a local…?\nWho’s ready to test their skills and knowledge? We of course\, reward the top 3 teams each week!\n(cell phones are not to be used\, cheaters…)\nWe’ve got Abe as your MC… Ska Brewing #Lagers will be on special all night!\nAsk #TheDoctor about Mezcal and see what happens…\nCome find us in the #LocalsBasement!
URL:https://ritasbreck.com/event/ritas-trivia-night-18/
LOCATION:CO
ATTACH;FMTTYPE=image/jpeg:https://ritasbreck.com/wp-content/uploads/2024/01/Ritas-Ska-Trivia-Night-scaled.jpg
END:VEVENT
END:VCALENDAR