BEGIN:VCALENDAR
VERSION:2.0
PRODID:-//Rita&#039;s • Agave y Tacos - ECPv6.15.20//NONSGML v1.0//EN
CALSCALE:GREGORIAN
METHOD:PUBLISH
X-WR-CALNAME:Rita&#039;s • Agave y Tacos
X-ORIGINAL-URL:https://ritasbreck.com
X-WR-CALDESC:Events for Rita&#039;s • Agave y Tacos
REFRESH-INTERVAL;VALUE=DURATION:PT1H
X-Robots-Tag:noindex
X-PUBLISHED-TTL:PT1H
BEGIN:VTIMEZONE
TZID:America/Denver
BEGIN:DAYLIGHT
TZOFFSETFROM:-0700
TZOFFSETTO:-0600
TZNAME:MDT
DTSTART:20220313T090000
END:DAYLIGHT
BEGIN:STANDARD
TZOFFSETFROM:-0600
TZOFFSETTO:-0700
TZNAME:MST
DTSTART:20221106T080000
END:STANDARD
BEGIN:DAYLIGHT
TZOFFSETFROM:-0700
TZOFFSETTO:-0600
TZNAME:MDT
DTSTART:20230312T090000
END:DAYLIGHT
BEGIN:STANDARD
TZOFFSETFROM:-0600
TZOFFSETTO:-0700
TZNAME:MST
DTSTART:20231105T080000
END:STANDARD
BEGIN:DAYLIGHT
TZOFFSETFROM:-0700
TZOFFSETTO:-0600
TZNAME:MDT
DTSTART:20240310T090000
END:DAYLIGHT
BEGIN:STANDARD
TZOFFSETFROM:-0600
TZOFFSETTO:-0700
TZNAME:MST
DTSTART:20241103T080000
END:STANDARD
BEGIN:DAYLIGHT
TZOFFSETFROM:-0700
TZOFFSETTO:-0600
TZNAME:MDT
DTSTART:20250309T090000
END:DAYLIGHT
BEGIN:STANDARD
TZOFFSETFROM:-0600
TZOFFSETTO:-0700
TZNAME:MST
DTSTART:20251102T080000
END:STANDARD
END:VTIMEZONE
BEGIN:VEVENT
DTSTART;TZID=America/Denver:20240215T200000
DTEND;TZID=America/Denver:20240215T223000
DTSTAMP:20260425T090818
CREATED:20240207T012925Z
LAST-MODIFIED:20240207T012943Z
UID:952-1708027200-1708036200@ritasbreck.com
SUMMARY:Rita's Trivia Night • Ska Brewing
DESCRIPTION:Are you smarter than a local…?\nWho’s ready to test their skills and knowledge? We of course\, reward the top 3 teams each week!\n(cell phones are not to be used\, cheaters…)\nWe’ve got Abe as your MC… Ska Brewing #MexicanLoggers will be on special all night!\nAsk #TheDoctor about Mezcal and see what happens…\nCome find us in the #LocalsBasement!
URL:https://ritasbreck.com/event/ritas-trivia-night-ska-brewing/
ATTACH;FMTTYPE=image/jpeg:https://ritasbreck.com/wp-content/uploads/2024/02/Ritas-Trivia-Goog-2024.jpg
END:VEVENT
BEGIN:VEVENT
DTSTART;TZID=America/Denver:20240214T160000
DTEND;TZID=America/Denver:20240214T210000
DTSTAMP:20260425T090818
CREATED:20240206T220911Z
LAST-MODIFIED:20240206T220955Z
UID:941-1707926400-1707944400@ritasbreck.com
SUMMARY:Ander's Last Day
DESCRIPTION:Come give this guy a kick in the pants! \nIt’s his last day…
URL:https://ritasbreck.com/event/anders-last-day/
ATTACH;FMTTYPE=image/jpeg:https://ritasbreck.com/wp-content/uploads/2024/02/Anders-Trumper-scaled.jpg
END:VEVENT
BEGIN:VEVENT
DTSTART;TZID=America/Denver:20240208T200000
DTEND;TZID=America/Denver:20240208T223000
DTSTAMP:20260425T090818
CREATED:20240207T013258Z
LAST-MODIFIED:20240207T013258Z
UID:958-1707422400-1707431400@ritasbreck.com
SUMMARY:Rita's Trivia Night • Ska Brewing
DESCRIPTION:Are you smarter than a local…?\nWho’s ready to test their skills and knowledge? We of course\, reward the top 3 teams each week!\n(cell phones are not to be used\, cheaters…)\nWe’ve got Abe as your MC… Ska Brewing #MexicanLoggers will be on special all night!\nAsk #TheDoctor about Mezcal and see what happens…\nCome find us in the #LocalsBasement!
URL:https://ritasbreck.com/event/ritas-trivia-night-ska-brewing-4/
ATTACH;FMTTYPE=image/jpeg:https://ritasbreck.com/wp-content/uploads/2024/02/Ritas-Trivia-Goog-2024.jpg
END:VEVENT
BEGIN:VEVENT
DTSTART;TZID=America/Denver:20240201T200000
DTEND;TZID=America/Denver:20240201T223000
DTSTAMP:20260425T090818
CREATED:20240206T223839Z
LAST-MODIFIED:20240208T162721Z
UID:947-1706817600-1706826600@ritasbreck.com
SUMMARY:Rita's Trivia Night • Ska Brewing
DESCRIPTION:Are you smarter than a local…?\nWho’s ready to test their skills and knowledge? We of course\, reward the top 3 teams each week!\n(cell phones are not to be used\, cheaters…)\nWe’ve got Abe as your MC… Ska Brewing #Lagers will be on special all night!\nAsk #TheDoctor about Mezcal and see what happens…\nCome find us in the #LocalsBasement!
URL:https://ritasbreck.com/event/947/
ATTACH;FMTTYPE=image/jpeg:https://ritasbreck.com/wp-content/uploads/2024/02/Ritas-Trivia-Goog-2024.jpg
END:VEVENT
BEGIN:VEVENT
DTSTART;VALUE=DATE:20240126
DTEND;VALUE=DATE:20240201
DTSTAMP:20260425T090818
CREATED:20240111T215819Z
LAST-MODIFIED:20240111T215819Z
UID:937-1706227200-1706745599@ritasbreck.com
SUMMARY:International Snow Sculpture Championships • Viewing Week
DESCRIPTION:Please visit “GoBreck” for more information!\n  \n(From the GoBreck website) \nBreckenridge’s International Snow Sculpture Championships is a world-renowned snow sculpting competition where teams from around the world descend on Breckenridge\, Colorado to hand-carve 25-ton blocks of snow into enormous\, intricate works of art. Artists are only allowed to use hand tools\, creativity and inspiration to bring their ideas to life. No power tools allowed! Teams sculpt countless hours across five days (totaling around 94 hours)\, resulting in a temporary outdoor art gallery in historic downtown Breckenridge!\n  \nJoin us at the 2024 International Snow Sculpture Championships\n\nSculpting Week: January 22-26\, 2024\nViewing Week: January 26-31\, 2024\n\nWe encourage spectators to view the sculptures Sunday\, Jan. 28 – Wednesday\, Jan. 31 when reservations are not required.  The sculpture viewing area will be closed at 7:00pm on January 31
URL:https://ritasbreck.com/event/international-snow-sculpture-championships-viewing-week/
ATTACH;FMTTYPE=image/jpeg:https://ritasbreck.com/wp-content/uploads/2024/01/IMG_0883-1-scaled.jpg
END:VEVENT
BEGIN:VEVENT
DTSTART;TZID=America/Denver:20240125T200000
DTEND;TZID=America/Denver:20240125T220000
DTSTAMP:20260425T090818
CREATED:20240109T071518Z
LAST-MODIFIED:20240109T071518Z
UID:925-1706212800-1706220000@ritasbreck.com
SUMMARY:Rita's Trivia Night
DESCRIPTION:Are you smarter than a local…?\nWho’s ready to test their skills and knowledge? We of course\, reward the top 3 teams each week!\n(cell phones are not to be used\, cheaters…)\nWe’ve got Abe as your MC… Ska Brewing #Lagers will be on special all night!\nAsk #TheDoctor about Mezcal and see what happens…\nCome find us in the #LocalsBasement!
URL:https://ritasbreck.com/event/ritas-trivia-night-20/
ATTACH;FMTTYPE=image/jpeg:https://ritasbreck.com/wp-content/uploads/2024/01/Ritas-Ska-Trivia-Night-scaled.jpg
END:VEVENT
BEGIN:VEVENT
DTSTART;VALUE=DATE:20240122
DTEND;VALUE=DATE:20240127
DTSTAMP:20260425T090818
CREATED:20240111T213644Z
LAST-MODIFIED:20240111T213644Z
UID:934-1705881600-1706313599@ritasbreck.com
SUMMARY:International Snow Sculpture Championships • Carving Week
DESCRIPTION:Please visit “GoBreck” for more information!\n  \n(From the GoBreck website) \nBreckenridge’s International Snow Sculpture Championships is a world-renowned snow sculpting competition where teams from around the world descend on Breckenridge\, Colorado to hand-carve 25-ton blocks of snow into enormous\, intricate works of art. Artists are only allowed to use hand tools\, creativity and inspiration to bring their ideas to life. No power tools allowed! Teams sculpt countless hours across five days (totaling around 94 hours)\, resulting in a temporary outdoor art gallery in historic downtown Breckenridge!\n  \nJoin us at the 2024 International Snow Sculpture Championships\n\nSculpting Week: January 22-26\, 2024\nViewing Week: January 26-31\, 2024\n\nWe encourage spectators to view the sculptures Sunday\, Jan. 28 – Wednesday\, Jan. 31 when reservations are not required.  The sculpture viewing area will be closed at 7:00pm on January 31\n 
URL:https://ritasbreck.com/event/international-snow-sculpture-championships-carving-week/
ATTACH;FMTTYPE=image/jpeg:https://ritasbreck.com/wp-content/uploads/2024/01/IMG_0719-scaled.jpg
END:VEVENT
BEGIN:VEVENT
DTSTART;TZID=America/Denver:20240118T200000
DTEND;TZID=America/Denver:20240118T220000
DTSTAMP:20260425T090818
CREATED:20240109T071349Z
LAST-MODIFIED:20240109T071349Z
UID:923-1705608000-1705615200@ritasbreck.com
SUMMARY:Rita's Trivia Night
DESCRIPTION:Are you smarter than a local…?\nWho’s ready to test their skills and knowledge? We of course\, reward the top 3 teams each week!\n(cell phones are not to be used\, cheaters…)\nWe’ve got Abe as your MC… Ska Brewing #Lagers will be on special all night!\nAsk #TheDoctor about Mezcal and see what happens…\nCome find us in the #LocalsBasement!
URL:https://ritasbreck.com/event/ritas-trivia-night-19/
ATTACH;FMTTYPE=image/jpeg:https://ritasbreck.com/wp-content/uploads/2024/01/Ritas-Ska-Trivia-Night-scaled.jpg
END:VEVENT
BEGIN:VEVENT
DTSTART;TZID=America/Denver:20240111T200000
DTEND;TZID=America/Denver:20240111T220000
DTSTAMP:20260425T090818
CREATED:20240109T070945Z
LAST-MODIFIED:20240111T212422Z
UID:920-1705003200-1705010400@ritasbreck.com
SUMMARY:Rita's Trivia  - Cancelled
DESCRIPTION:Apologies!  We have to cancel tonight’s Trivia.\n \nAre you smarter than a local…?\nWho’s ready to test their skills and knowledge? We of course\, reward the top 3 teams each week!\n(cell phones are not to be used\, cheaters…)\nWe’ve got Abe as your MC… Ska Brewing #Lagers will be on special all night!\nAsk #TheDoctor about Mezcal and see what happens…\nCome find us in the #LocalsBasement!
URL:https://ritasbreck.com/event/ritas-trivia-night-18/
ATTACH;FMTTYPE=image/jpeg:https://ritasbreck.com/wp-content/uploads/2024/01/Ritas-Ska-Trivia-Night-scaled.jpg
END:VEVENT
BEGIN:VEVENT
DTSTART;VALUE=DATE:20230618
DTEND;VALUE=DATE:20230619
DTSTAMP:20260425T090818
CREATED:20230407T210954Z
LAST-MODIFIED:20230407T210954Z
UID:887-1687046400-1687132799@ritasbreck.com
SUMMARY:Father's Day
DESCRIPTION:Who’s taking Dad out for a Taco?\n(He really wants a shot of Tequila!)\nWhat if Dad wants a Fresh Squeezed Margarita?\n(He really wants a shot of Tequila!)\nCome find us on Main Street Breck for a Taco\, a Marg and shot of Tequila!
URL:https://ritasbreck.com/event/fathers-day/
END:VEVENT
BEGIN:VEVENT
DTSTART;VALUE=DATE:20230529
DTEND;VALUE=DATE:20230530
DTSTAMP:20260425T090818
CREATED:20230407T210441Z
LAST-MODIFIED:20230407T210441Z
UID:885-1685318400-1685404799@ritasbreck.com
SUMMARY:Memorial Day
DESCRIPTION:Who’s got the day off?\nIt’s time to book a Summer Vacation!
URL:https://ritasbreck.com/event/memorial-day/
END:VEVENT
BEGIN:VEVENT
DTSTART;VALUE=DATE:20230515
DTEND;VALUE=DATE:20230516
DTSTAMP:20260425T090818
CREATED:20230407T205823Z
LAST-MODIFIED:20230407T210245Z
UID:883-1684108800-1684195199@ritasbreck.com
SUMMARY:Mother's Day
DESCRIPTION:Who’s taking Mom out for a Taco?\nWhat if Mom wants a Fresh Squeezed Margarita?  \nCome find us on Main Street Breck!\n 
URL:https://ritasbreck.com/event/mothers-day/
END:VEVENT
BEGIN:VEVENT
DTSTART;TZID=America/Denver:20230427T200000
DTEND;TZID=America/Denver:20230427T220000
DTSTAMP:20260425T090818
CREATED:20230322T203815Z
LAST-MODIFIED:20230322T203815Z
UID:863-1682625600-1682632800@ritasbreck.com
SUMMARY:Rita's Trivia Night
DESCRIPTION:Are you smarter than a local…?\nWho’s ready to test their skills and knowledge?\nWe of course\, reward the top 3 teams each week!\n(cell phones are not to be used\, cheaters…)\nWe’ve got Abe\, Connor or Skidge as your possible MC…\nSka Brewing #MexicanLoggers will be on special all night!\nAsk #TheDoctor or #JoseV about Mezcal and see what happens…\nCome find us in the #LocalsBasement!
URL:https://ritasbreck.com/event/ritas-trivia-night-17/
ATTACH;FMTTYPE=image/jpeg:https://ritasbreck.com/wp-content/uploads/2022/08/ska-thursday-trivia-June-2022-scaled.jpg
END:VEVENT
BEGIN:VEVENT
DTSTART;TZID=America/Denver:20230422T113000
DTEND;TZID=America/Denver:20230526T133000
DTSTAMP:20260425T090818
CREATED:20230424T160629Z
LAST-MODIFIED:20230424T160629Z
UID:891-1682163000-1685107800@ritasbreck.com
SUMMARY:Lunch Happy Hour!
DESCRIPTION:Two Happy Hours Daily!\n11:30am – 1:30pm\n&\n4pm – 6pm\n•••\n$1 off all Margaritas \n$10 off all Marg Pitchers\n$5 Arette Silver or Reposado Tequila shots\n$4 Malort Shots\n$4 Ska Mexican Lager Drafts \n••• \nBuy 2 Tacos\, Get 1 Free\n(all 3 must be the same\, exactly the same taco\, seriously all 3 tacos must be identical)
URL:https://ritasbreck.com/event/lunch-happy-hour/
ATTACH;FMTTYPE=image/jpeg:https://ritasbreck.com/wp-content/uploads/2023/04/2-Happy-Hours-Ritas-April-23.jpg
END:VEVENT
BEGIN:VEVENT
DTSTART;TZID=America/Denver:20230420T200000
DTEND;TZID=America/Denver:20230420T220000
DTSTAMP:20260425T090818
CREATED:20230322T203655Z
LAST-MODIFIED:20230322T203655Z
UID:861-1682020800-1682028000@ritasbreck.com
SUMMARY:Rita's Trivia Night
DESCRIPTION:Are you smarter than a local…?\nWho’s ready to test their skills and knowledge?\nWe of course\, reward the top 3 teams each week!\n(cell phones are not to be used\, cheaters…)\nWe’ve got Abe\, Connor or Skidge as your possible MC…\nSka Brewing #MexicanLoggers will be on special all night!\nAsk #TheDoctor or #JoseV about Mezcal and see what happens…\nCome find us in the #LocalsBasement!
URL:https://ritasbreck.com/event/ritas-trivia-night-16/
ATTACH;FMTTYPE=image/jpeg:https://ritasbreck.com/wp-content/uploads/2022/08/ska-thursday-trivia-June-2022-scaled.jpg
END:VEVENT
BEGIN:VEVENT
DTSTART;TZID=America/Denver:20230413T200000
DTEND;TZID=America/Denver:20230413T220000
DTSTAMP:20260425T090818
CREATED:20230322T203523Z
LAST-MODIFIED:20230322T203523Z
UID:859-1681416000-1681423200@ritasbreck.com
SUMMARY:Rita's Trivia Night
DESCRIPTION:Are you smarter than a local…?\nWho’s ready to test their skills and knowledge?\nWe of course\, reward the top 3 teams each week!\n(cell phones are not to be used\, cheaters…)\nWe’ve got Abe\, Connor or Skidge as your possible MC…\nSka Brewing #MexicanLoggers will be on special all night!\nAsk #TheDoctor or #JoseV about Mezcal and see what happens…\nCome find us in the #LocalsBasement!
URL:https://ritasbreck.com/event/ritas-trivia-night-15/
ATTACH;FMTTYPE=image/jpeg:https://ritasbreck.com/wp-content/uploads/2022/08/ska-thursday-trivia-June-2022-scaled.jpg
END:VEVENT
BEGIN:VEVENT
DTSTART;VALUE=DATE:20230409
DTEND;VALUE=DATE:20230410
DTSTAMP:20260425T090818
CREATED:20230407T205151Z
LAST-MODIFIED:20230407T205151Z
UID:881-1680998400-1681084799@ritasbreck.com
SUMMARY:Easter Sunday
DESCRIPTION:We open at 11:30AM if you’re up for some Tacos?
URL:https://ritasbreck.com/event/easter-sunday/
END:VEVENT
BEGIN:VEVENT
DTSTART;TZID=America/Denver:20230406T200000
DTEND;TZID=America/Denver:20230406T220000
DTSTAMP:20260425T090818
CREATED:20230322T201038Z
LAST-MODIFIED:20230322T201038Z
UID:857-1680811200-1680818400@ritasbreck.com
SUMMARY:Rita's Trivia Night
DESCRIPTION:Are you smarter than a local…?\nWho’s ready to test their skills and knowledge?\nWe of course\, reward the top 3 teams each week!\n(cell phones are not to be used\, cheaters…)\nWe’ve got Abe\, Connor or Skidge as your possible MC…\nSka Brewing #MexicanLoggers will be on special all night!\nAsk #TheDoctor or #JoseV about Mezcal and see what happens…\nCome find us in the #LocalsBasement!
URL:https://ritasbreck.com/event/ritas-trivia-night-14/
ATTACH;FMTTYPE=image/jpeg:https://ritasbreck.com/wp-content/uploads/2022/08/ska-thursday-trivia-June-2022-scaled.jpg
END:VEVENT
BEGIN:VEVENT
DTSTART;TZID=America/Denver:20230401T160000
DTEND;TZID=America/Denver:20230401T220000
DTSTAMP:20260425T090818
CREATED:20230322T204045Z
LAST-MODIFIED:20230324T211752Z
UID:865-1680364800-1680386400@ritasbreck.com
SUMMARY:Rita's goes Italian (One Night Only!)
DESCRIPTION:This is not an April Fools joke!\n  \nWe plan on serving our last Taco at 3:30PM  \nThe Ritalini’s menu will change over at 4pm!\n \nDinner Menu\n \nSoup\nMinestrone\nSalad\nChipotle Caesar\nCaprese\nAppetizer\nBruschetta\nEntrees\nBaked Ziti with Italian Sausage\nSpaghetti & Meatballs\nChicken or Portobello Mushroom Parmigiana\nDessert\nTiramisu\n  \nCocktail Menu\n \nMafioso Margarita aka Blood Orange Amaretto Margarita\nFresh Squeezed all the way\nRitaRoni\nAgave Negroni with coffee and chocolate \nMistadobalina Sbagliato\nSbagliato w/mezcal and hibiscus tepache\nTabernas Spritz\nOur take on an Aperol spritz w/mezcal and  tepache\nTapatini\nOur martini with anejo and amaretto \n \n 
URL:https://ritasbreck.com/event/ritas-goes-italian-one-night-only/
ATTACH;FMTTYPE=image/jpeg:https://ritasbreck.com/wp-content/uploads/2020/02/Ritas-Past-Night-Ging-Pt6-4-1-23-copy-scaled.jpg
END:VEVENT
BEGIN:VEVENT
DTSTART;TZID=America/Denver:20230330T200000
DTEND;TZID=America/Denver:20230330T220000
DTSTAMP:20260425T090818
CREATED:20230221T223236Z
LAST-MODIFIED:20230221T223429Z
UID:850-1680206400-1680213600@ritasbreck.com
SUMMARY:Rita's Trivia Night
DESCRIPTION:Are you smarter than a local…?\nWho’s ready to test their skills and knowledge?\nWe of course\, reward the top 3 teams each week!\n(cell phones are not to be used\, cheaters…)\nWe’ve got Abe\, Connor or Skidge as your possible MC…\nSka Brewing #MexicanLoggers will be on special all night!\nAsk #TheDoctor or #JoseV about Mezcal and see what happens…\nCome find us in the #LocalsBasement!
URL:https://ritasbreck.com/event/ritas-trivia-night-13/
ATTACH;FMTTYPE=image/jpeg:https://ritasbreck.com/wp-content/uploads/2022/08/ska-thursday-trivia-June-2022-scaled.jpg
END:VEVENT
BEGIN:VEVENT
DTSTART;TZID=America/Denver:20230323T200000
DTEND;TZID=America/Denver:20230323T220000
DTSTAMP:20260425T090818
CREATED:20230221T222715Z
LAST-MODIFIED:20230221T222820Z
UID:847-1679601600-1679608800@ritasbreck.com
SUMMARY:Rita's Trivia Night
DESCRIPTION:Are you smarter than a local…?\nWho’s ready to test their skills and knowledge?\nWe of course\, reward the top 3 teams each week!\n(cell phones are not to be used\, cheaters…)\nWe’ve got Abe\, Connor or Skidge as your possible MC…\nSka Brewing #MexicanLoggers will be on special all night!\nAsk #TheDoctor or #JoseV about Mezcal and see what happens…\nCome find us in the #LocalsBasement!
URL:https://ritasbreck.com/event/847/
ATTACH;FMTTYPE=image/jpeg:https://ritasbreck.com/wp-content/uploads/2022/08/ska-thursday-trivia-June-2022-scaled.jpg
END:VEVENT
BEGIN:VEVENT
DTSTART;TZID=America/Denver:20230317T160000
DTEND;TZID=America/Denver:20230317T220000
DTSTAMP:20260425T090818
CREATED:20230221T224112Z
LAST-MODIFIED:20230221T230405Z
UID:852-1679068800-1679090400@ritasbreck.com
SUMMARY:St. Patrick's Day Shenanigans
DESCRIPTION:$5 Green Tea Shots all night!  \nJust ask Joe…
URL:https://ritasbreck.com/event/st-patricks-day-shenanigans/
ATTACH;FMTTYPE=image/jpeg:https://ritasbreck.com/wp-content/uploads/2023/02/Green-Tea2.jpg
END:VEVENT
BEGIN:VEVENT
DTSTART;TZID=America/Denver:20230316T200000
DTEND;TZID=America/Denver:20230316T220000
DTSTAMP:20260425T090818
CREATED:20230221T222552Z
LAST-MODIFIED:20230221T222552Z
UID:845-1678996800-1679004000@ritasbreck.com
SUMMARY:Rita's Trivia Night
DESCRIPTION:Are you smarter than a local…?\nWho’s ready to test their skills and knowledge?\nWe of course\, reward the top 3 teams each week!\n(cell phones are not to be used\, cheaters…)\nWe’ve got Abe\, Connor or Skidge as your possible MC…\nSka Brewing #MexicanLoggers will be on special all night!\nAsk #TheDoctor or #JoseV about Mezcal and see what happens…\nCome find us in the #LocalsBasement!
URL:https://ritasbreck.com/event/ritas-trivia-night-12/
ATTACH;FMTTYPE=image/jpeg:https://ritasbreck.com/wp-content/uploads/2022/08/ska-thursday-trivia-June-2022-scaled.jpg
END:VEVENT
BEGIN:VEVENT
DTSTART;TZID=America/Denver:20230309T200000
DTEND;TZID=America/Denver:20230309T220000
DTSTAMP:20260425T090818
CREATED:20230221T221146Z
LAST-MODIFIED:20230221T221146Z
UID:843-1678392000-1678399200@ritasbreck.com
SUMMARY:Rita's Trivia Night
DESCRIPTION:Are you smarter than a local…?\nWho’s ready to test their skills and knowledge?\nWe of course\, reward the top 3 teams each week!\n(cell phones are not to be used\, cheaters…)\nWe’ve got Abe\, Connor or Skidge as your possible MC…\nSka Brewing #MexicanLoggers will be on special all night!\nAsk #TheDoctor or #JoseV about Mezcal and see what happens…\nCome find us in the #LocalsBasement!
URL:https://ritasbreck.com/event/ritas-trivia-night-11/
ATTACH;FMTTYPE=image/jpeg:https://ritasbreck.com/wp-content/uploads/2022/08/ska-thursday-trivia-June-2022-scaled.jpg
END:VEVENT
BEGIN:VEVENT
DTSTART;TZID=America/Denver:20230302T200000
DTEND;TZID=America/Denver:20230302T220000
DTSTAMP:20260425T090818
CREATED:20230221T212425Z
LAST-MODIFIED:20230221T221949Z
UID:841-1677787200-1677794400@ritasbreck.com
SUMMARY:Rita's Trivia Night
DESCRIPTION:Are you smarter than a local…?\nWho’s ready to test their skills and knowledge?\nWe of course\, reward the top 3 teams each week!\n(cell phones are not to be used\, cheaters…)\nWe’ve got Abe\, Connor or Skidge as your possible MC…\nSka Brewing #MexicanLoggers will be on special all night!\nAsk #TheDoctor or #JoseV about Mezcal and see what happens…\nCome find us in the #LocalsBasement!
URL:https://ritasbreck.com/event/ritas-trivia-night-10/
ATTACH;FMTTYPE=image/jpeg:https://ritasbreck.com/wp-content/uploads/2022/08/ska-thursday-trivia-June-2022-scaled.jpg
END:VEVENT
BEGIN:VEVENT
DTSTART;TZID=America/Denver:20230223T200000
DTEND;TZID=America/Denver:20230223T220000
DTSTAMP:20260425T090818
CREATED:20230121T210910Z
LAST-MODIFIED:20230221T214740Z
UID:834-1677182400-1677189600@ritasbreck.com
SUMMARY:Rita's Trivia Night
DESCRIPTION:Are you smarter than a local…?\nWho’s ready to test their skills and knowledge?\nWe of course\, reward the top 3 teams each week!\n(cell phones are not to be used\, cheaters…)\nWe’ve got Abe\, Connor or Skidge as your possible MC…\nSka Brewing #MexicanLoggers will be on special all night!\nAsk #TheDoctor or #JoseV about Mezcal and see what happens…\nCome find us in the #LocalsBasement!
URL:https://ritasbreck.com/event/ritas-trivia-night-9/
END:VEVENT
BEGIN:VEVENT
DTSTART;TZID=America/Denver:20230216T200000
DTEND;TZID=America/Denver:20230216T220000
DTSTAMP:20260425T090818
CREATED:20230121T210624Z
LAST-MODIFIED:20230221T214643Z
UID:832-1676577600-1676584800@ritasbreck.com
SUMMARY:Rita's Trivia Night
DESCRIPTION:Are you smarter than a local…?\nWho’s ready to test their skills and knowledge?\nWe of course\, reward the top 3 teams each week!\n(cell phones are not to be used\, cheaters…)\nWe’ve got Abe\, Connor or Skidge as your possible MC…\nSka Brewing #MexicanLoggers will be on special all night!\nAsk #TheDoctor or #JoseV about Mezcal and see what happens…\nCome find us in the #LocalsBasement!
URL:https://ritasbreck.com/event/ritas-trivia-night-8/
END:VEVENT
BEGIN:VEVENT
DTSTART;TZID=America/Denver:20230209T200000
DTEND;TZID=America/Denver:20230209T220000
DTSTAMP:20260425T090818
CREATED:20230121T210146Z
LAST-MODIFIED:20230221T214429Z
UID:830-1675972800-1675980000@ritasbreck.com
SUMMARY:Rita's Trivia Night
DESCRIPTION:Are you smarter than a local…?\nWho’s ready to test their skills and knowledge?\nWe of course\, reward the top 3 teams each week!\n(cell phones are not to be used\, cheaters…)\nWe’ve got Abe\, Connor or Skidge as your possible MC…\nSka Brewing #MexicanLoggers will be on special all night!\nAsk #TheDoctor or #JoseV about Mezcal and see what happens…\nCome find us in the #LocalsBasement!
URL:https://ritasbreck.com/event/ritas-trivia-night-7/
END:VEVENT
BEGIN:VEVENT
DTSTART;TZID=America/Denver:20230202T200000
DTEND;TZID=America/Denver:20230202T220000
DTSTAMP:20260425T090818
CREATED:20230121T205922Z
LAST-MODIFIED:20230221T214330Z
UID:828-1675368000-1675375200@ritasbreck.com
SUMMARY:Rita's Trivia Night
DESCRIPTION:Are you smarter than a local…?\nWho’s ready to test their skills and knowledge?\nWe of course\, reward the top 3 teams each week!\n(cell phones are not to be used\, cheaters…)\nWe’ve got Abe\, Connor or Skidge as your possible MC…\nSka Brewing #MexicanLoggers will be on special all night!\nAsk #TheDoctor or #JoseV about Mezcal and see what happens…\nCome find us in the #LocalsBasement!
URL:https://ritasbreck.com/event/ritas-trivia-night-6/
END:VEVENT
BEGIN:VEVENT
DTSTART;TZID=America/Denver:20230126T200000
DTEND;TZID=America/Denver:20230126T220000
DTSTAMP:20260425T090818
CREATED:20230121T203621Z
LAST-MODIFIED:20230221T212848Z
UID:820-1674763200-1674770400@ritasbreck.com
SUMMARY:Rita's Trivia Night
DESCRIPTION:Are you smarter than a local…?\nWho’s ready to test their skills and knowledge?\nWe of course\, reward the top 3 teams each week!\n(cell phones are not to be used\, cheaters…)\nWe’ve got Abe as your MC…\nSka Brewing #MexicanLoggers will be on special all night!\nAsk #TheDoctor or #JoseV about Mezcal and see what happens…\nCome find us in the #LocalsBasement!
URL:https://ritasbreck.com/event/ritas-trivia-night-5/
END:VEVENT
END:VCALENDAR