BEGIN:VCALENDAR
VERSION:2.0
PRODID:-//Rita&#039;s • Agave y Tacos - ECPv6.15.20//NONSGML v1.0//EN
CALSCALE:GREGORIAN
METHOD:PUBLISH
X-WR-CALNAME:Rita&#039;s • Agave y Tacos
X-ORIGINAL-URL:https://ritasbreck.com
X-WR-CALDESC:Events for Rita&#039;s • Agave y Tacos
REFRESH-INTERVAL;VALUE=DURATION:PT1H
X-Robots-Tag:noindex
X-PUBLISHED-TTL:PT1H
BEGIN:VTIMEZONE
TZID:America/Denver
BEGIN:DAYLIGHT
TZOFFSETFROM:-0700
TZOFFSETTO:-0600
TZNAME:MDT
DTSTART:20180311T090000
END:DAYLIGHT
BEGIN:STANDARD
TZOFFSETFROM:-0600
TZOFFSETTO:-0700
TZNAME:MST
DTSTART:20181104T080000
END:STANDARD
BEGIN:DAYLIGHT
TZOFFSETFROM:-0700
TZOFFSETTO:-0600
TZNAME:MDT
DTSTART:20190310T090000
END:DAYLIGHT
BEGIN:STANDARD
TZOFFSETFROM:-0600
TZOFFSETTO:-0700
TZNAME:MST
DTSTART:20191103T080000
END:STANDARD
BEGIN:DAYLIGHT
TZOFFSETFROM:-0700
TZOFFSETTO:-0600
TZNAME:MDT
DTSTART:20200308T090000
END:DAYLIGHT
BEGIN:STANDARD
TZOFFSETFROM:-0600
TZOFFSETTO:-0700
TZNAME:MST
DTSTART:20201101T080000
END:STANDARD
BEGIN:DAYLIGHT
TZOFFSETFROM:-0700
TZOFFSETTO:-0600
TZNAME:MDT
DTSTART:20210314T090000
END:DAYLIGHT
BEGIN:STANDARD
TZOFFSETFROM:-0600
TZOFFSETTO:-0700
TZNAME:MST
DTSTART:20211107T080000
END:STANDARD
BEGIN:DAYLIGHT
TZOFFSETFROM:-0700
TZOFFSETTO:-0600
TZNAME:MDT
DTSTART:20220313T090000
END:DAYLIGHT
BEGIN:STANDARD
TZOFFSETFROM:-0600
TZOFFSETTO:-0700
TZNAME:MST
DTSTART:20221106T080000
END:STANDARD
END:VTIMEZONE
BEGIN:VEVENT
DTSTART;TZID=America/Denver:20211204T180000
DTEND;TZID=America/Denver:20211204T220000
DTSTAMP:20260425T171945
CREATED:20211012T173318Z
LAST-MODIFIED:20211120T212430Z
UID:712-1638640800-1638655200@ritasbreck.com
SUMMARY:14th Annual CAIC Benefit Bash
DESCRIPTION:Click here to learn more!\n\n\n\n \nTHE. BASH. IS. BACK. The biggest party to support avalanche education in Colorado is December 4th\, featuring music by Rapidgrass!\n\n\n\n\n\n\n\n\nRaising over $1 million since 2008\, the Annual CAIC Benefit Bash returns for the 14th year. And we can’t wait to see you all in person again!\nWe anticipate this event to sell out! Tickets start at $55 and include:\n\nEntry to the best party in town with your fellow backcountry crew\nTwo Drink Tickets – including beer from Breckenridge Brewery and Broken Compass Brewing\nSnacks (no dinner – please eat beforehand!)\nOne Door Prize Ticket (more for sale)\nAccess to the Silent and Live Auctions\nA chance to win some gear from a HUGE giveaway pile thanks to our incredibly generous sponsors!\n\nBeaver Run is offering a special Benefit Bash rate on suites and rooms! Get your friends together and stay the night. See details at: https://reservations.travelclick.com/97052?groupID=3343931\n  \nCOVID – You will need to show proof of vaccination to get in. Please do not buy tickets if you cannot provide proof. This is a venue requirement. No exceptions. \n \nIf you have any symptoms or test positive for COVID\, please DO NOT come to the event and we will issue you a full refund.\n\n\n\n\n 
URL:https://ritasbreck.com/event/caic-benefit-bash/
END:VEVENT
BEGIN:VEVENT
DTSTART;VALUE=DATE:20211204
DTEND;VALUE=DATE:20211205
DTSTAMP:20260425T171945
CREATED:20211012T172406Z
LAST-MODIFIED:20211012T172406Z
UID:704-1638576000-1638662399@ritasbreck.com
SUMMARY:Lighting of Breckenridge & Race of the Santas
DESCRIPTION:Click here to learn more! \nEvent organizers are planning on hosting Lighting of Breckenridge and Race of the Santas.  Even though some large-scale event features might be reimagined\, guests can expect some creative celebratory alternatives while adhering to all required public health recommendations and regulations.Residents and guests can expect that the 250\,000 LED holidays hung throughout downtown Breckenridge will turn on over the December 4th weekend and will continue to shine and spread joy all winter long. With the goal of dispersing downtown guests from Main Street’s narrow sidewalks and creating some extra outdoor space\, a festival of holiday trees\, decorated by community businesses\, will be added to the Blue River Rec Path and remain on display throughout the month of December. \nLighting of Breckenridge and Race of the Santas will adhere to all public health and safety regulations required for Colorado.
URL:https://ritasbreck.com/event/lighting-of-breckenridge-race-of-the-santas-2/
END:VEVENT
BEGIN:VEVENT
DTSTART;VALUE=DATE:20211125
DTEND;VALUE=DATE:20211126
DTSTAMP:20260425T171945
CREATED:20211012T171239Z
LAST-MODIFIED:20211012T171239Z
UID:698-1637798400-1637884799@ritasbreck.com
SUMMARY:Closed for Turkey Day!
DESCRIPTION:
URL:https://ritasbreck.com/event/closed-for-turkey-day-2/
END:VEVENT
BEGIN:VEVENT
DTSTART;TZID=America/Denver:20211112T090000
DTEND;TZID=America/Denver:20211112T160000
DTSTAMP:20260425T171945
CREATED:20211012T172051Z
LAST-MODIFIED:20211012T172051Z
UID:702-1636707600-1636732800@ritasbreck.com
SUMMARY:Breck Mountain Opening Day!
DESCRIPTION:
URL:https://ritasbreck.com/event/breck-mountain-opening-day/
END:VEVENT
BEGIN:VEVENT
DTSTART;VALUE=DATE:20210502
DTEND;VALUE=DATE:20210519
DTSTAMP:20260425T171945
CREATED:20210424T201953Z
LAST-MODIFIED:20210515T054209Z
UID:673-1619913600-1621382399@ritasbreck.com
SUMMARY:Closed • Spring Cleaning
DESCRIPTION:It’s been one hekofa crazy winter!\nThanks for putting up with the insane amount of restrictions…  \nWe couldn’t ask for more understanding customers!\nFingers crossed\, we might see you on Main Street Breck?
URL:https://ritasbreck.com/event/closed-spring-cleaning/
END:VEVENT
BEGIN:VEVENT
DTSTART;VALUE=DATE:20201225
DTEND;VALUE=DATE:20201226
DTSTAMP:20260425T171945
CREATED:20201002T164409Z
LAST-MODIFIED:20201004T191742Z
UID:564-1608854400-1608940799@ritasbreck.com
SUMMARY:Closed for Christmas
DESCRIPTION:
URL:https://ritasbreck.com/event/closed-for-christmas/
END:VEVENT
BEGIN:VEVENT
DTSTART;VALUE=DATE:20201209
DTEND;VALUE=DATE:20201220
DTSTAMP:20260425T171945
CREATED:20201001T225906Z
LAST-MODIFIED:20201117T163827Z
UID:560-1607472000-1608422399@ritasbreck.com
SUMMARY:Breckenridge Ullr Fest
DESCRIPTION:Of course\, this is a #GoBreck or town event!\nHere’s what they have listed for now…\nWhile large gatherings like the iconic Ullr Fest parade\, Ullr Bonfire and unofficial world ShotSki record have been postponed until 2021\, Breckenridge won’t let their dear friend go a winter without feeling their praise. For  over  57 years\, the snow-obsessed community of Breckenridge has strapped on Viking helmets and paid tribute to Ullr (rhymes with cooler)\, the Norse god of snow\, in hopes of being rewarded handsomely with an abundance of snowfall. Legend has it\, this yearly ritual is  the reason Breckenridge is blessed with 360+ inches of annual snowfall (that’s over 30 feet!). Instead\, Breckenridge is expanding the celebration with the new Ten Days of ULLR happening December 9 – 19\, 2020. Expected to invigorate the winter spirit in everyone\, this year’s event will pay homage to Ullr with static open-air art installations throughout town\, a town-wide adventure race scavenger hunt sure to test any snow worshiper’s merit\, the Breckenridge Distillery virtual ShotSki\, a Breck Film winter film series screening\, Strava-based fat bike races\, Breck Create youth Ullr crafts and more!\nUllr Fest will adhere to all public health and safety regulations required for Colorado. Learn More.
URL:https://ritasbreck.com/event/breckenridge-ullr-fest/
END:VEVENT
BEGIN:VEVENT
DTSTART;VALUE=DATE:20201205
DTEND;VALUE=DATE:20201206
DTSTAMP:20260425T171945
CREATED:20201001T225329Z
LAST-MODIFIED:20201117T163158Z
UID:557-1607126400-1607212799@ritasbreck.com
SUMMARY:Lighting of Breckenridge & Race of the Santas
DESCRIPTION:Of course\, this is a #GoBreck event!  \nHere’s what they have listed for now:\nEven though large gatherings like the official lighting countdown and the Race of the Santas have been postponed until 2021\, the festive spirit still twinkles throughout this community with a holiday line-up guaranteed to warm any Grinch’s heart. Breckenridge ups the ante on small town holiday charm by transforming its historic downtown into a sparkling  snow globe scene thanks to more than 13\,000 feet and 250\,000 LED holiday lights. Those visiting Breckenridge during the December 5th kick-off weekend can expect a “Santa-fied” community decked out in Santa suits\, a festival of trees creating a winter wonderland\, and animations aimed to surprise and delight! The iconic holiday lights in downtown Breckenridge are one of the most photographed sights during the snowy months and continue to shine and spread joy all winter long.\nThe Lighting of Breckenridge will adhere to all public health and safety regulations required for Colorado. Learn More.\n  \n 
URL:https://ritasbreck.com/event/lighting-of-breckenridge-race-of-the-santas/
END:VEVENT
BEGIN:VEVENT
DTSTART;VALUE=DATE:20201126
DTEND;VALUE=DATE:20201127
DTSTAMP:20260425T171945
CREATED:20201002T164322Z
LAST-MODIFIED:20201004T191729Z
UID:562-1606348800-1606435199@ritasbreck.com
SUMMARY:Closed for Turkey Day
DESCRIPTION:
URL:https://ritasbreck.com/event/close-for-turkey-day/
END:VEVENT
BEGIN:VEVENT
DTSTART;VALUE=DATE:20201115
DTEND;VALUE=DATE:20201117
DTSTAMP:20260425T171945
CREATED:20201115T132434Z
LAST-MODIFIED:20201115T132453Z
UID:626-1605398400-1605571199@ritasbreck.com
SUMMARY:Closed for Maintenance
DESCRIPTION:Closed for Sunday & Monday!\nThanks for the understanding…
URL:https://ritasbreck.com/event/closed-for-maintenance-3/
END:VEVENT
BEGIN:VEVENT
DTSTART;TZID=America/Denver:20201113T090000
DTEND;TZID=America/Denver:20201113T160000
DTSTAMP:20260425T171945
CREATED:20201001T224850Z
LAST-MODIFIED:20201001T224850Z
UID:555-1605258000-1605283200@ritasbreck.com
SUMMARY:Breck Mountain Opens
DESCRIPTION:#BreckMTN is open for the Winter season!
URL:https://ritasbreck.com/event/breck-mountain-opens/
END:VEVENT
BEGIN:VEVENT
DTSTART;VALUE=DATE:20201103
DTEND;VALUE=DATE:20201104
DTSTAMP:20260425T171945
CREATED:20201001T224527Z
LAST-MODIFIED:20201001T224723Z
UID:553-1604361600-1604447999@ritasbreck.com
SUMMARY:Election Day
DESCRIPTION:Please Go Vote!
URL:https://ritasbreck.com/event/election-day/
END:VEVENT
BEGIN:VEVENT
DTSTART;TZID=America/Denver:20201031T113000
DTEND;TZID=America/Denver:20201031T210000
DTSTAMP:20260425T171945
CREATED:20201002T164509Z
LAST-MODIFIED:20201002T164509Z
UID:566-1604143800-1604178000@ritasbreck.com
SUMMARY:All Hallows Eve!
DESCRIPTION:
URL:https://ritasbreck.com/event/all-hallows-eve/
END:VEVENT
BEGIN:VEVENT
DTSTART;TZID=America/Denver:20200326T203000
DTEND;TZID=America/Denver:20200326T223000
DTSTAMP:20260425T171945
CREATED:20200219T190559Z
LAST-MODIFIED:20200219T190559Z
UID:518-1585254600-1585261800@ritasbreck.com
SUMMARY:Rita's Trivia
DESCRIPTION: Are you smarter than a local…?\nWho’s ready to test their skills & knowledge? We of course\, reward the top 3 teams each week!\nCome check out #MezcalMursdays with Abram (#TheDoctor) and Joe (#JoseV)!\nThey’ll drop some knowledge on you in regards to Bancanora\, Racilla & Sotol… What are those you ask?\nThey’re #HalfOff every Thursday is what they are… Come sip on a little Agave Spirts if you dare!\nAll Agave Spirits that don’t ryhme with #Equila are half off each Thursday for #RitasTrivia!
URL:https://ritasbreck.com/event/ritas-trivia-15/
END:VEVENT
BEGIN:VEVENT
DTSTART;TZID=America/Denver:20200319T200000
DTEND;TZID=America/Denver:20200319T223000
DTSTAMP:20260425T171945
CREATED:20200219T190510Z
LAST-MODIFIED:20200219T190510Z
UID:517-1584648000-1584657000@ritasbreck.com
SUMMARY:Rita's Trivia
DESCRIPTION: Are you smarter than a local…?\nWho’s ready to test their skills & knowledge? We of course\, reward the top 3 teams each week!\nCome check out #MezcalMursdays with Abram (#TheDoctor) and Joe (#JoseV)!\nThey’ll drop some knowledge on you in regards to Bancanora\, Racilla & Sotol… What are those you ask?\nThey’re #HalfOff every Thursday is what they are… Come sip on a little Agave Spirts if you dare!\nAll Agave Spirits that don’t ryhme with #Equila are half off each Thursday for #RitasTrivia!
URL:https://ritasbreck.com/event/ritas-trivia-14/
END:VEVENT
BEGIN:VEVENT
DTSTART;TZID=America/Denver:20200314T160000
DTEND;TZID=America/Denver:20200314T230000
DTSTAMP:20260425T171945
CREATED:20200310T154330Z
LAST-MODIFIED:20200310T175903Z
UID:520-1584201600-1584226800@ritasbreck.com
SUMMARY:¡Tequila Arette!
DESCRIPTION:Who’s ready to try our new Fresh Squeezed #SeñorRita aka the Rita’s House Marg?\n  \nWe’re excited to introduce Tequila Arette into our #HandPressed Family!\n\nWe’ve got three signature drinks you can try for the evening! Please join us this Saturday… Doors open at 4pm!\n  \nThe #Éspicy will feature the #AretteBlanco!\nThe #PuraVida will feature the #AretteBlancoSuave!\n\nCome in and enjoy #AretteTequila with us…
URL:https://ritasbreck.com/event/tequila-arette/
END:VEVENT
BEGIN:VEVENT
DTSTART;TZID=America/Denver:20200312T203000
DTEND;TZID=America/Denver:20200312T223000
DTSTAMP:20260425T171945
CREATED:20200219T185819Z
LAST-MODIFIED:20200219T185819Z
UID:516-1584045000-1584052200@ritasbreck.com
SUMMARY:Rita's Trivia
DESCRIPTION: Are you smarter than a local…?\nWho’s ready to test their skills & knowledge? We of course\, reward the top 3 teams each week!\nCome check out #MezcalMursdays with Abram (#TheDoctor) and Joe (#JoseV)!\nThey’ll drop some knowledge on you in regards to Bancanora\, Racilla & Sotol… What are those you ask?\nThey’re #HalfOff every Thursday is what they are… Come sip on a little Agave Spirts if you dare!\nAll Agave Spirits that don’t ryhme with #Equila are half off each Thursday for #RitasTrivia!
URL:https://ritasbreck.com/event/ritas-trivia-13/
END:VEVENT
BEGIN:VEVENT
DTSTART;TZID=America/Denver:20200305T203000
DTEND;TZID=America/Denver:20200305T223000
DTSTAMP:20260425T171945
CREATED:20200219T185722Z
LAST-MODIFIED:20200219T185722Z
UID:515-1583440200-1583447400@ritasbreck.com
SUMMARY:Rita's Trivia
DESCRIPTION: Are you smarter than a local…?\nWho’s ready to test their skills & knowledge? We of course\, reward the top 3 teams each week!\nCome check out #MezcalMursdays with Abram (#TheDoctor) and Joe (#JoseV)!\nThey’ll drop some knowledge on you in regards to Bancanora\, Racilla & Sotol… What are those you ask?\nThey’re #HalfOff every Thursday is what they are… Come sip on a little Agave Spirts if you dare!\nAll Agave Spirits that don’t ryhme with #Equila are half off each Thursday for #RitasTrivia!
URL:https://ritasbreck.com/event/ritas-trivia-12/
END:VEVENT
BEGIN:VEVENT
DTSTART;TZID=America/Denver:20200227T203000
DTEND;TZID=America/Denver:20200227T223000
DTSTAMP:20260425T171945
CREATED:20200219T185535Z
LAST-MODIFIED:20200219T185535Z
UID:514-1582835400-1582842600@ritasbreck.com
SUMMARY:Rita's Trivia
DESCRIPTION: Are you smarter than a local…?\nWho’s ready to test their skills & knowledge? We of course\, reward the top 3 teams each week!\nCome check out #MezcalMursdays with Abram (#TheDoctor) and Joe (#JoseV)!\nThey’ll drop some knowledge on you in regards to Bancanora\, Racilla & Sotol… What are those you ask?\nThey’re #HalfOff every Thursday is what they are… Come sip on a little Agave Spirts if you dare!\nAll Agave Spirits that don’t ryhme with #Equila are half off each Thursday for #RitasTrivia!
URL:https://ritasbreck.com/event/ritas-trivia-11/
END:VEVENT
BEGIN:VEVENT
DTSTART;TZID=America/Denver:20200220T203000
DTEND;TZID=America/Denver:20200220T223000
DTSTAMP:20260425T171945
CREATED:20200219T180708Z
LAST-MODIFIED:20200219T185912Z
UID:512-1582230600-1582237800@ritasbreck.com
SUMMARY:Rita's Trivia
DESCRIPTION: Are you smarter than a local…?\nWho’s ready to test their skills & knowledge? We of course\, reward the top 3 teams each week!\nCome check out #MezcalMursdays with Abram (#TheDoctor) and Joe (#JoseV)!\nThey’ll drop some knowledge on you in regards to Bancanora\, Racilla & Sotol… What are those you ask?\nThey’re #HalfOff every Thursday is what they are… Come sip on a little Agave Spirts if you dare!\nAll Agave Spirits that don’t ryhme with #Equila are half off each Thursday for #RitasTrivia!
URL:https://ritasbreck.com/event/ritas-trivia-10/
END:VEVENT
BEGIN:VEVENT
DTSTART;TZID=America/Denver:20200213T203000
DTEND;TZID=America/Denver:20200213T223000
DTSTAMP:20260425T171945
CREATED:20200209T203036Z
LAST-MODIFIED:20200209T203036Z
UID:510-1581625800-1581633000@ritasbreck.com
SUMMARY:Rita's Trivia
DESCRIPTION:Are you smarter than a local?\nTrivia Night @ 8:30PM\nPrizes are awarded to the top 3 teams!\nMezcal Mursdays\n(Half off all Agave Spirits that don’t rhyme with equila)
URL:https://ritasbreck.com/event/ritas-trivia-9/
END:VEVENT
BEGIN:VEVENT
DTSTART;VALUE=DATE:20191006
DTEND;VALUE=DATE:20191210
DTSTAMP:20260425T171945
CREATED:20190930T221352Z
LAST-MODIFIED:20190930T221352Z
UID:475-1570320000-1575935999@ritasbreck.com
SUMMARY:Closed for Construction!
DESCRIPTION:We apologize for this one!\nHonestly\, there’s a plumbing issue in the basement…\nWe have to get this one fixed!\nWe promise to keep everyone updated on all the progress…\n\nRegards\,\n#TeamRitas
URL:https://ritasbreck.com/event/closed-for-construction/
END:VEVENT
BEGIN:VEVENT
DTSTART;TZID=America/Denver:20191002T170000
DTEND;TZID=America/Denver:20191005T220000
DTSTAMP:20260425T171945
CREATED:20190930T222350Z
LAST-MODIFIED:20190930T222350Z
UID:479-1570035600-1570312800@ritasbreck.com
SUMMARY:Half Price Shots of Tequila!
DESCRIPTION:
URL:https://ritasbreck.com/event/half-price-shots-of-tequila-6/
END:VEVENT
BEGIN:VEVENT
DTSTART;VALUE=DATE:20191001
DTEND;VALUE=DATE:20191002
DTSTAMP:20260425T171945
CREATED:20190930T222256Z
LAST-MODIFIED:20190930T222256Z
UID:478-1569888000-1569974399@ritasbreck.com
SUMMARY:Closed for the Night!
DESCRIPTION:
URL:https://ritasbreck.com/event/closed-for-the-night/
END:VEVENT
BEGIN:VEVENT
DTSTART;TZID=America/Denver:20190930T170000
DTEND;TZID=America/Denver:20190930T220000
DTSTAMP:20260425T171945
CREATED:20190930T222232Z
LAST-MODIFIED:20190930T222232Z
UID:477-1569862800-1569880800@ritasbreck.com
SUMMARY:Half Price Shots of Tequila!
DESCRIPTION:
URL:https://ritasbreck.com/event/half-price-shots-of-tequila-5/
END:VEVENT
BEGIN:VEVENT
DTSTART;TZID=America/Denver:20190725T203000
DTEND;TZID=America/Denver:20190725T223000
DTSTAMP:20260425T171945
CREATED:20190710T205251Z
LAST-MODIFIED:20190711T174137Z
UID:465-1564086600-1564093800@ritasbreck.com
SUMMARY:Thursday Night Trivia
DESCRIPTION:
URL:https://ritasbreck.com/event/thursday-night-trivia-3/
END:VEVENT
BEGIN:VEVENT
DTSTART;TZID=America/Denver:20190718T203000
DTEND;TZID=America/Denver:20190718T223000
DTSTAMP:20260425T171945
CREATED:20190710T205207Z
LAST-MODIFIED:20190711T174202Z
UID:464-1563481800-1563489000@ritasbreck.com
SUMMARY:Thursday Night Trivia
DESCRIPTION:
URL:https://ritasbreck.com/event/thursday-night-trivia-2/
END:VEVENT
BEGIN:VEVENT
DTSTART;TZID=America/Denver:20190711T203000
DTEND;TZID=America/Denver:20190711T223000
DTSTAMP:20260425T171945
CREATED:20190710T205100Z
LAST-MODIFIED:20190711T174227Z
UID:463-1562877000-1562884200@ritasbreck.com
SUMMARY:Thursday Night Trivia
DESCRIPTION:
URL:https://ritasbreck.com/event/thursday-night-trivia/
END:VEVENT
BEGIN:VEVENT
DTSTART;TZID=America/Denver:20190704T150000
DTEND;TZID=America/Denver:20190704T220000
DTSTAMP:20260425T171945
CREATED:20190704T001215Z
LAST-MODIFIED:20190704T001225Z
UID:462-1562252400-1562277600@ritasbreck.com
SUMMARY:4th of July!
DESCRIPTION:We’re going to open early for the 4th!\nSee you at 3pm…
URL:https://ritasbreck.com/event/4th-of-july/
END:VEVENT
BEGIN:VEVENT
DTSTART;TZID=America/Denver:20190228T200000
DTEND;TZID=America/Denver:20190228T220000
DTSTAMP:20260425T171945
CREATED:20190122T012514Z
LAST-MODIFIED:20190122T012514Z
UID:444-1551384000-1551391200@ritasbreck.com
SUMMARY:Rita's Trivia
DESCRIPTION:
URL:https://ritasbreck.com/event/ritas-trivia-8/
END:VEVENT
END:VCALENDAR