BEGIN:VCALENDAR
VERSION:2.0
PRODID:-//Rita&#039;s • Agave y Tacos - ECPv6.15.20//NONSGML v1.0//EN
CALSCALE:GREGORIAN
METHOD:PUBLISH
X-WR-CALNAME:Rita&#039;s • Agave y Tacos
X-ORIGINAL-URL:https://ritasbreck.com
X-WR-CALDESC:Events for Rita&#039;s • Agave y Tacos
REFRESH-INTERVAL;VALUE=DURATION:PT1H
X-Robots-Tag:noindex
X-PUBLISHED-TTL:PT1H
BEGIN:VTIMEZONE
TZID:America/Denver
BEGIN:DAYLIGHT
TZOFFSETFROM:-0700
TZOFFSETTO:-0600
TZNAME:MDT
DTSTART:20170312T090000
END:DAYLIGHT
BEGIN:STANDARD
TZOFFSETFROM:-0600
TZOFFSETTO:-0700
TZNAME:MST
DTSTART:20171105T080000
END:STANDARD
BEGIN:DAYLIGHT
TZOFFSETFROM:-0700
TZOFFSETTO:-0600
TZNAME:MDT
DTSTART:20180311T090000
END:DAYLIGHT
BEGIN:STANDARD
TZOFFSETFROM:-0600
TZOFFSETTO:-0700
TZNAME:MST
DTSTART:20181104T080000
END:STANDARD
BEGIN:DAYLIGHT
TZOFFSETFROM:-0700
TZOFFSETTO:-0600
TZNAME:MDT
DTSTART:20190310T090000
END:DAYLIGHT
BEGIN:STANDARD
TZOFFSETFROM:-0600
TZOFFSETTO:-0700
TZNAME:MST
DTSTART:20191103T080000
END:STANDARD
BEGIN:DAYLIGHT
TZOFFSETFROM:-0700
TZOFFSETTO:-0600
TZNAME:MDT
DTSTART:20200308T090000
END:DAYLIGHT
BEGIN:STANDARD
TZOFFSETFROM:-0600
TZOFFSETTO:-0700
TZNAME:MST
DTSTART:20201101T080000
END:STANDARD
END:VTIMEZONE
BEGIN:VEVENT
DTSTART;TZID=America/Denver:20190110T200000
DTEND;TZID=America/Denver:20190110T220000
DTSTAMP:20260425T215337
CREATED:20190108T063408Z
LAST-MODIFIED:20190108T063903Z
UID:431-1547150400-1547157600@ritasbreck.com
SUMMARY:Brewers Trivia Night
DESCRIPTION:Who’s ready to test their craft beer knowledge? We’ve already got two teams that are ready to play!\n  \nTelluride Brewing Co. & Ska Brewing will be hosting and are the top two contenders for this round of Brewers Trivia!\n  \nThe action starts around 8pm and there will be #BarTab prizes up for grabs! First\, Second and Third place to be awarded…\n  \nWe know everyone from Big Beers\, Belgians & Barleywine Festival will be running around town\, so be ready for quite the tap-take-over from these two breweries!
URL:https://ritasbreck.com/event/brewers-trivia-night/
END:VEVENT
BEGIN:VEVENT
DTSTART;TZID=America/Denver:20190103T200000
DTEND;TZID=America/Denver:20190103T220000
DTSTAMP:20260425T215337
CREATED:20190108T065341Z
LAST-MODIFIED:20190108T065341Z
UID:437-1546545600-1546552800@ritasbreck.com
SUMMARY:Rita's Trivia
DESCRIPTION:
URL:https://ritasbreck.com/event/ritas-trivia-2/
END:VEVENT
BEGIN:VEVENT
DTSTART;VALUE=DATE:20181122
DTEND;VALUE=DATE:20181123
DTSTAMP:20260425T215337
CREATED:20181113T062829Z
LAST-MODIFIED:20181113T062829Z
UID:429-1542844800-1542931199@ritasbreck.com
SUMMARY:Closed for Thanksgiving
DESCRIPTION:We will be closed on Thanksgiving Day to be with our friends & family!
URL:https://ritasbreck.com/event/closed-for-thanksgiving/
END:VEVENT
BEGIN:VEVENT
DTSTART;TZID=America/Denver:20181117T160000
DTEND;TZID=America/Denver:20181117T190000
DTSTAMP:20260425T215337
CREATED:20181113T062442Z
LAST-MODIFIED:20181113T062442Z
UID:427-1542470400-1542481200@ritasbreck.com
SUMMARY:MTN Dew SnowDance
DESCRIPTION:Here’s an event brought to you by the Breckenridge Ski Resort!\nLet’s start winning at winter with an all new event at Breck brought to you by Mtn Dew\, on mountain activations and a new concert are heading this way. Help us bring the winter energy with a full day of contagious fun. Begin on the mountain with activations hosted by Olympians Red Gerard and Julia Marino. The fun continues into the evening with a new concert held in the South Gondola Lot featuring Gramatik and other artists. \nClick here for the event! \nClick here for the Facebook event!
URL:https://ritasbreck.com/event/mtn-dew-snowdance/
END:VEVENT
BEGIN:VEVENT
DTSTART;TZID=America/Denver:20181108T200000
DTEND;TZID=America/Denver:20181108T220000
DTSTAMP:20260425T215337
CREATED:20181022T154113Z
LAST-MODIFIED:20181022T154113Z
UID:413-1541707200-1541714400@ritasbreck.com
SUMMARY:Rita's Trivia Presented by Suerte
DESCRIPTION:
URL:https://ritasbreck.com/event/ritas-trivia-presented-by-suerte-33/
END:VEVENT
BEGIN:VEVENT
DTSTART;TZID=America/Denver:20181108T070000
DTEND;TZID=America/Denver:20181108T070000
DTSTAMP:20260425T215337
CREATED:20181022T160753Z
LAST-MODIFIED:20181022T160753Z
UID:415-1541660400-1541660400@ritasbreck.com
SUMMARY:Wake Up Breck!
DESCRIPTION:WAKE UP BRECK\nThe ski resort is buying everyone coffee!
URL:https://ritasbreck.com/event/wake-up-breck/
END:VEVENT
BEGIN:VEVENT
DTSTART;TZID=America/Denver:20181107T090000
DTEND;TZID=America/Denver:20181107T090000
DTSTAMP:20260425T215337
CREATED:20181022T161012Z
LAST-MODIFIED:20181106T075048Z
UID:416-1541581200-1541581200@ritasbreck.com
SUMMARY:Breck Ski Resort Opening Day!
DESCRIPTION:OPENING DAY\nAnother exciting ski season begins November 9\, 2018 when the Breck Ski Resort opens for the 2018/19 season.
URL:https://ritasbreck.com/event/breck-ski-resort-opening-day/
END:VEVENT
BEGIN:VEVENT
DTSTART;VALUE=DATE:20181106
DTEND;VALUE=DATE:20181108
DTSTAMP:20260425T215337
CREATED:20181022T154229Z
LAST-MODIFIED:20181022T154246Z
UID:414-1541462400-1541635199@ritasbreck.com
SUMMARY:Closed for Maintenance
DESCRIPTION:Sorry guys! \n  \nWe’re just closed for just two days…  Need to get a few things in order for the rest of the season!
URL:https://ritasbreck.com/event/closed-for-maintenance-2/
END:VEVENT
BEGIN:VEVENT
DTSTART;TZID=America/Denver:20181101T200000
DTEND;TZID=America/Denver:20181101T220000
DTSTAMP:20260425T215337
CREATED:20181022T154002Z
LAST-MODIFIED:20181022T154002Z
UID:412-1541102400-1541109600@ritasbreck.com
SUMMARY:Rita's Trivia Presented by Suerte
DESCRIPTION:
URL:https://ritasbreck.com/event/ritas-trivia-presented-by-suerte-32/
END:VEVENT
BEGIN:VEVENT
DTSTART;TZID=America/Denver:20181025T200000
DTEND;TZID=America/Denver:20181025T220000
DTSTAMP:20260425T215337
CREATED:20181022T153850Z
LAST-MODIFIED:20181022T153850Z
UID:411-1540497600-1540504800@ritasbreck.com
SUMMARY:Rita's Trivia Presented by Suerte
DESCRIPTION:
URL:https://ritasbreck.com/event/ritas-trivia-presented-by-suerte-31/
END:VEVENT
BEGIN:VEVENT
DTSTART;TZID=America/Denver:20180830T210000
DTEND;TZID=America/Denver:20180830T230000
DTSTAMP:20260425T215337
CREATED:20180608T221420Z
LAST-MODIFIED:20180608T221420Z
UID:408-1535662800-1535670000@ritasbreck.com
SUMMARY:Rita's Trivia Presented by Suerte
DESCRIPTION:
URL:https://ritasbreck.com/event/ritas-trivia-presented-by-suerte-30/
END:VEVENT
BEGIN:VEVENT
DTSTART;TZID=America/Denver:20180823T210000
DTEND;TZID=America/Denver:20180823T230000
DTSTAMP:20260425T215337
CREATED:20180608T221350Z
LAST-MODIFIED:20180608T221350Z
UID:407-1535058000-1535065200@ritasbreck.com
SUMMARY:Rita's Trivia Presented by Suerte
DESCRIPTION:
URL:https://ritasbreck.com/event/ritas-trivia-presented-by-suerte-29/
END:VEVENT
BEGIN:VEVENT
DTSTART;TZID=America/Denver:20180816T210000
DTEND;TZID=America/Denver:20180816T230000
DTSTAMP:20260425T215337
CREATED:20180608T221324Z
LAST-MODIFIED:20180608T221324Z
UID:406-1534453200-1534460400@ritasbreck.com
SUMMARY:Rita's Trivia Presented by Suerte
DESCRIPTION:
URL:https://ritasbreck.com/event/ritas-trivia-presented-by-suerte-28/
END:VEVENT
BEGIN:VEVENT
DTSTART;TZID=America/Denver:20180809T210000
DTEND;TZID=America/Denver:20180809T230000
DTSTAMP:20260425T215337
CREATED:20180608T221244Z
LAST-MODIFIED:20180608T221244Z
UID:405-1533848400-1533855600@ritasbreck.com
SUMMARY:Rita's Trivia Presented by Suerte
DESCRIPTION:
URL:https://ritasbreck.com/event/ritas-trivia-presented-by-suerte-27/
END:VEVENT
BEGIN:VEVENT
DTSTART;TZID=America/Denver:20180802T210000
DTEND;TZID=America/Denver:20180802T230000
DTSTAMP:20260425T215337
CREATED:20180608T221216Z
LAST-MODIFIED:20180608T221216Z
UID:404-1533243600-1533250800@ritasbreck.com
SUMMARY:Rita's Trivia Presented by Suerte
DESCRIPTION:
URL:https://ritasbreck.com/event/ritas-trivia-presented-by-suerte-26/
END:VEVENT
BEGIN:VEVENT
DTSTART;TZID=America/Denver:20180726T210000
DTEND;TZID=America/Denver:20180726T230000
DTSTAMP:20260425T215337
CREATED:20180608T221054Z
LAST-MODIFIED:20180608T221054Z
UID:403-1532638800-1532646000@ritasbreck.com
SUMMARY:Rita's Trivia Presented by Suerte
DESCRIPTION:
URL:https://ritasbreck.com/event/ritas-trivia-presented-by-suerte-25/
END:VEVENT
BEGIN:VEVENT
DTSTART;TZID=America/Denver:20180719T210000
DTEND;TZID=America/Denver:20180719T230000
DTSTAMP:20260425T215337
CREATED:20180608T221021Z
LAST-MODIFIED:20180608T221021Z
UID:402-1532034000-1532041200@ritasbreck.com
SUMMARY:Rita's Trivia Presented by Suerte
DESCRIPTION:
URL:https://ritasbreck.com/event/ritas-trivia-presented-by-suerte-24/
END:VEVENT
BEGIN:VEVENT
DTSTART;TZID=America/Denver:20180712T210000
DTEND;TZID=America/Denver:20180712T230000
DTSTAMP:20260425T215337
CREATED:20180608T220949Z
LAST-MODIFIED:20180608T220949Z
UID:401-1531429200-1531436400@ritasbreck.com
SUMMARY:Rita's Trivia Presented by Suerte
DESCRIPTION:
URL:https://ritasbreck.com/event/ritas-trivia-presented-by-suerte-23/
END:VEVENT
BEGIN:VEVENT
DTSTART;TZID=America/Denver:20180705T210000
DTEND;TZID=America/Denver:20180705T230000
DTSTAMP:20260425T215337
CREATED:20180608T220911Z
LAST-MODIFIED:20180608T220911Z
UID:400-1530824400-1530831600@ritasbreck.com
SUMMARY:Rita's Trivia Presented by Suerte
DESCRIPTION:
URL:https://ritasbreck.com/event/ritas-trivia-presented-by-suerte-22/
END:VEVENT
BEGIN:VEVENT
DTSTART;TZID=America/Denver:20180628T210000
DTEND;TZID=America/Denver:20180628T230000
DTSTAMP:20260425T215337
CREATED:20180608T220719Z
LAST-MODIFIED:20180608T220719Z
UID:399-1530219600-1530226800@ritasbreck.com
SUMMARY:Rita's Trivia Presented by Suerte
DESCRIPTION:
URL:https://ritasbreck.com/event/ritas-trivia-presented-by-suerte-21/
END:VEVENT
BEGIN:VEVENT
DTSTART;TZID=America/Denver:20180621T210000
DTEND;TZID=America/Denver:20180621T230000
DTSTAMP:20260425T215337
CREATED:20180608T220650Z
LAST-MODIFIED:20180608T220650Z
UID:398-1529614800-1529622000@ritasbreck.com
SUMMARY:Rita's Trivia Presented by Suerte
DESCRIPTION:
URL:https://ritasbreck.com/event/ritas-trivia-presented-by-suerte-20/
END:VEVENT
BEGIN:VEVENT
DTSTART;TZID=America/Denver:20180614T210000
DTEND;TZID=America/Denver:20180614T230000
DTSTAMP:20260425T215337
CREATED:20180608T220543Z
LAST-MODIFIED:20180608T220606Z
UID:397-1529010000-1529017200@ritasbreck.com
SUMMARY:Rita's Trivia Presented by Suerte
DESCRIPTION:
URL:https://ritasbreck.com/event/ritas-trivia-presented-by-suerte-19/
END:VEVENT
BEGIN:VEVENT
DTSTART;TZID=America/Denver:20180607T210000
DTEND;TZID=America/Denver:20180607T230000
DTSTAMP:20260425T215337
CREATED:20180608T220457Z
LAST-MODIFIED:20180608T220457Z
UID:395-1528405200-1528412400@ritasbreck.com
SUMMARY:Rita's Trivia Presented by Suerte
DESCRIPTION:
URL:https://ritasbreck.com/event/ritas-trivia-presented-by-suerte-18/
END:VEVENT
BEGIN:VEVENT
DTSTART;TZID=America/Denver:20180426T200000
DTEND;TZID=America/Denver:20180426T220000
DTSTAMP:20260425T215337
CREATED:20180402T222549Z
LAST-MODIFIED:20180402T222549Z
UID:383-1524772800-1524780000@ritasbreck.com
SUMMARY:Rita's Trivia presented by Suerte
DESCRIPTION:
URL:https://ritasbreck.com/event/ritas-trivia-presented-by-suerte-17/
END:VEVENT
BEGIN:VEVENT
DTSTART;TZID=America/Denver:20180426T170000
DTEND;TZID=America/Denver:20180430T210000
DTSTAMP:20260425T215337
CREATED:20180402T220932Z
LAST-MODIFIED:20180402T221012Z
UID:379-1524762000-1525122000@ritasbreck.com
SUMMARY:Half Price Shots of Tequila!
DESCRIPTION:Who’s ready for this one?\n 
URL:https://ritasbreck.com/event/half-price-shots-of-tequila-4/
END:VEVENT
BEGIN:VEVENT
DTSTART;VALUE=DATE:20180423
DTEND;VALUE=DATE:20180426
DTSTAMP:20260425T215337
CREATED:20180402T220635Z
LAST-MODIFIED:20180402T220635Z
UID:378-1524441600-1524700799@ritasbreck.com
SUMMARY:CLOSED for Maintenance
DESCRIPTION:
URL:https://ritasbreck.com/event/closed-for-maintenance/
END:VEVENT
BEGIN:VEVENT
DTSTART;TZID=America/Denver:20180419T200000
DTEND;TZID=America/Denver:20180419T220000
DTSTAMP:20260425T215337
CREATED:20180402T222502Z
LAST-MODIFIED:20180402T222502Z
UID:382-1524168000-1524175200@ritasbreck.com
SUMMARY:Rita's Trivia presented by Suerte
DESCRIPTION:
URL:https://ritasbreck.com/event/ritas-trivia-presented-by-suerte-16/
END:VEVENT
BEGIN:VEVENT
DTSTART;TZID=America/Denver:20180416T160000
DTEND;TZID=America/Denver:20180422T210000
DTSTAMP:20260425T215337
CREATED:20180402T215843Z
LAST-MODIFIED:20180402T215843Z
UID:376-1523894400-1524430800@ritasbreck.com
SUMMARY:Half Price Shots of Tequila!
DESCRIPTION:Who’s ready for this one?\n 
URL:https://ritasbreck.com/event/half-price-shots-of-tequila-3/
END:VEVENT
BEGIN:VEVENT
DTSTART;TZID=America/Denver:20180412T200000
DTEND;TZID=America/Denver:20180412T220000
DTSTAMP:20260425T215337
CREATED:20180402T222427Z
LAST-MODIFIED:20180402T222427Z
UID:381-1523563200-1523570400@ritasbreck.com
SUMMARY:Rita's Trivia presented by Suerte
DESCRIPTION:
URL:https://ritasbreck.com/event/ritas-trivia-presented-by-suerte-15/
END:VEVENT
BEGIN:VEVENT
DTSTART;TZID=America/Denver:20180405T200000
DTEND;TZID=America/Denver:20180405T220000
DTSTAMP:20260425T215337
CREATED:20180402T222347Z
LAST-MODIFIED:20180402T222347Z
UID:380-1522958400-1522965600@ritasbreck.com
SUMMARY:Rita's Trivia presented by Suerte
DESCRIPTION:
URL:https://ritasbreck.com/event/ritas-trivia-presented-by-suerte-14/
END:VEVENT
END:VCALENDAR